BEGIN:VCALENDAR
VERSION:2.0
PRODID:-//wp-events-plugin.com//7.2.3.1//EN
TZID:America/Toronto
X-WR-TIMEZONE:America/Toronto
BEGIN:VEVENT
UID:4513@martinluther.ca
DTSTART;TZID=America/Toronto;VALUE=DATE:20261129
DTEND;TZID=America/Toronto;VALUE=DATE:20261130
DTSTAMP:20260206T211033Z
URL:https://martinluther.ca/de/events/1-adventssonntag-71-jahrestag-der-ma
 rtin-luther-kirche-toronto-11-00-uhr-gottesdienst-tbd/
SUMMARY:1. ADVENTSSONNTAG - 71. Jahrestag der Martin-Luther-Kirche Toronto
  - 11.00 Uhr Gottesdienst TBD
DESCRIPTION:November 29\, 2026 | 1. Adventssonntag - 71. Jahrestag der Mart
 in-Luther-Kirche Toronto -11.00 Uhr Gottesdienst TBD\n\n&nbsp\;\n\nVon zu 
 Hause aus: Hören Sie sich unsere 15-minütigen deutschen Radioandachten a
 n\, die jeden Sonntag um 9:30 Uhr live auf dem CHLO-Radiosender AM 530 (ei
 nem mehrsprachigen Radiosender aus Brampton\, Ontario) ausgestrahlt. Spät
 er als Podcast-Aufzeichnung auf unserer Radio-Andachten-Webseite archivi
 ert.\n\nAbonnieren Sie unsere E-Mail-Liste im Kirchenbüro office@martinl
 uther.ca\nLernen Sie Pastor Annika Klappert kennen: Mobile: (416) 567-2487
  Email: pastor@martinluther.ca\n\nMartin Luther Evangelical Lutheran Chur
 ch\n2379 Lake Shore Blvd West\, Toronto\, Ontario\, Canada M8V 1B7\nTel.: 
 (416) 251-8293 office@martinluther.ca\n\nFolgen Sie uns in den sozialen M
 edien:\nFacebook: https://www.facebook.com/martinlutherchurchtoronto\nIns
 tagram: https://www.instagram.com/lutheransbythelake\n\nDie Martin-Luther
 -Kirche Toronto ist Mitglied der Evangelisch-Lutherischen Kirche in Kanada
  (ELCIC) und Partner der Evangelischen Kirche in Deutschland (EKD).
END:VEVENT
BEGIN:VTIMEZONE
TZID:America/Toronto
X-LIC-LOCATION:America/Toronto
BEGIN:STANDARD
DTSTART:20261101T010000
TZOFFSETFROM:-0400
TZOFFSETTO:-0500
TZNAME:EST
END:STANDARD
END:VTIMEZONE
END:VCALENDAR