BEGIN:VCALENDAR
VERSION:2.0
PRODID:-//wp-events-plugin.com//7.2.3.1//EN
TZID:America/Toronto
X-WR-TIMEZONE:America/Toronto
BEGIN:VEVENT
UID:4423@martinluther.ca
DTSTART;TZID=America/Toronto;VALUE=DATE:20260222
DTEND;TZID=America/Toronto;VALUE=DATE:20260223
DTSTAMP:20260218T165542Z
URL:https://martinluther.ca/de/events/1-so-in-der-passionszeit-11-00-uhr-z
 weisprachiger-deutsch-englischer-gottesdienst-mit-abendmahl-jahreshauptver
 sammlung-um-12-30-uhr/
SUMMARY:1. SO. IN DER PASSIONSZEIT -11.00 Uhr Zweisprachiger deutsch-englis
 cher Gottesdienst mit Abendmahl + JAHRESHAUPTVERSAMMLUNG um 12.30 Uhr
DESCRIPTION:22. Februar 2026 | 1. So. in der Passionszeit -11.00 Uhr Zweisp
 rachiger deutsch-englischer Gottesdienst mit Abendmahl + JAHRESHAUPTVERSAM
 MLUNG um 12.30 Uhr\n\nDie Unterlagen zur Jarheshauptversammlung sind verf
 ügbar. Bitte wenden Sie sich an das Kirchenbüro.\n\nDie Unterlagen für 
 unsere Jahreshauptversammlung am 22. Februar 2026 wurden am Mittwoch\, dem
  11. Februar 2026\, von der Vorsitzenden des Kirchenvorstands\, Jocelyn So
 mmerfeld\, per E-Mail an alle stimmberechtigten Mitglieder versandt. Gedru
 ckte Exemplare liegen in der Kirche aus. Bitte lesen Sie die gesamten Unte
 rlagen (einschließlich der Gruppenberichte\, des Protokolls von 2025 und 
 weiterer vom Kirchenvorstand eingereichter Dokumente) und nehmen Sie pers
 önlich an der Jahreshauptversammlung teil. Nutzen Sie die Gelegenheit\, s
 ich zu informieren\, Ihre Meinung zu äußern und abzustimmen.\n\nFalls Si
 e die Unterlagen nicht per E-Mail erhalten haben und stimmberechtigt sein 
 möchten\, wenden Sie sich bitte an president@martinluther.ca.\n\nSollten 
 Sie nicht persönlich teilnehmen können und per Vollmacht abstimmen wolle
 n\, füllen Sie bitte ein Vollmachtsformular (erhältlich bei der Vorsitze
 nden des Kirchenvorstands) aus und geben Sie es bis Freitag\, den 20. Febr
 uar 2026\, 18:00 Uhr\, im Kirchenbüro ab oder senden Sie es per E-Mail ei
 n.\n\n\n\nPlease volunteer!\n\n\nVon zu Hause aus: Hören Sie sich unsere 
 15-minütigen deutschen Radioandachten an\, die jeden Sonntag um 9:30 Uhr 
 live auf dem CHLO-Radiosender AM 530 (einem mehrsprachigen Radiosender aus
  Brampton\, Ontario) ausgestrahlt. Später als Podcast-Aufzeichnung auf un
 serer Radio-Andachten-Webseite archiviert.\n\nAbonnieren Sie unsere E-Ma
 il-Liste im Kirchenbüro office@martinluther.ca\nLernen Sie Pastor Annika
  Klappert kennen: Mobile: (416) 567-2487 Email: pastor@martinluther.ca\n\
 nMartin Luther Evangelical Lutheran Church\n2379 Lake Shore Blvd West\, To
 ronto\, Ontario\, Canada M8V 1B7\nTel.: (416) 251-8293 office@martinluthe
 r.ca\n\nFolgen Sie uns in den sozialen Medien:\nFacebook: https://www.fac
 ebook.com/martinlutherchurchtoronto\nInstagram: https://www.instagram.com
 /lutheransbythelake\n\nDie Martin-Luther-Kirche Toronto ist Mitglied der E
 vangelisch-Lutherischen Kirche in Kanada (ELCIC) und Partner der Evangelis
 chen Kirche in Deutschland (EKD).
END:VEVENT
BEGIN:VTIMEZONE
TZID:America/Toronto
X-LIC-LOCATION:America/Toronto
BEGIN:STANDARD
DTSTART:20251102T010000
TZOFFSETFROM:-0400
TZOFFSETTO:-0500
TZNAME:EST
END:STANDARD
END:VTIMEZONE
END:VCALENDAR