BEGIN:VCALENDAR
VERSION:2.0
PRODID:-//wp-events-plugin.com//7.2.3.1//EN
TZID:America/Toronto
X-WR-TIMEZONE:America/Toronto
BEGIN:VEVENT
UID:4106@martinluther.ca
DTSTART;TZID=America/Toronto;VALUE=DATE:20241229
DTEND;TZID=America/Toronto;VALUE=DATE:20241230
DTSTAMP:20241228T020308Z
URL:https://martinluther.ca/de/events/1-so-n-d-christfest-11-00-uhr-deutsc
 h-englischer-gottesdienst-vikarin-alice-rothgordt/
SUMMARY:1. SO. n. d. CHRISTFEST - 11.00 Uhr deutsch-englischer Gottesdienst
  (Vikarin Alice Rothgordt)
DESCRIPTION:29. Dezember 2024 -  1. So. n. d. CHRISTFEST - 11.00 Uhr deuts
 ch-englischer Gottesdienst (Vikarin Alice Rothgordt)\n\nWeihnachten. Jesus
  Christus ist geboren.\n\nKönnen Sie sonntags und zu besonderen Anlässen
  mit Kaffee und Kuchen/Bewirtung in unserer Kirche helfen? Sie können Ess
 en (Dessert\, Obsttablett\, Käsetablett usw.)\, Vorräte (Kaffee\, Tee\, 
 Milch\, Sahne) mitbringen und/oder beim Einrichten\, Servieren und Aufräu
 men helfen: Geschirr spülen und Tische abwischen.\n\nVon zu Hause aus: H
 ören Sie sich unsere 15-minütige deutsche Radioandacht an\, die jeden So
 nntag um 9:30 Uhr live auf dem CHLO-Radiosender AM 530 (einem mehrsprachig
 en Radiosender aus Brampton\, Ontario) während des deutschsprachigen Prog
 ramms zwischen 8:00 und 11:30 Uhr ausgestrahlt wird. Später als Audiodate
 iaufnahme auf unserer Radioandachts-Webseite archiviert.\n\nAbonnieren Sie
  unsere E-Mail-Liste im Kirchenbüro office@martinluther.ca\nNeuigkeiten f
 inden Sie unter: https://martinluther.ca/de/news-der-gemeinde/\n\nMartin L
 uther Evangelical Lutheran Church\n2379 Lake Shore Blvd West\, Toronto\, O
 ntario\, Canada M8V 1B7\nTel.: (416) 251-8293 office@martinluther.ca\n\nFo
 lgen Sie uns in den sozialen Medien:\nFacebook: https://www.facebook.com/m
 artinlutherchurchtoronto\nInstagram: https://www.instagram.com/lutheransby
 thelake\n\nDie Martin-Luther-Kirche Toronto ist Mitglied der Evangelisch-L
 utherischen Kirche in Kanada (ELCIC) und Partner der Evangelischen Kirche 
 in Deutschland (EKD).
END:VEVENT
BEGIN:VTIMEZONE
TZID:America/Toronto
X-LIC-LOCATION:America/Toronto
BEGIN:STANDARD
DTSTART:20241103T010000
TZOFFSETFROM:-0400
TZOFFSETTO:-0500
TZNAME:EST
END:STANDARD
END:VTIMEZONE
END:VCALENDAR