BEGIN:VCALENDAR
VERSION:2.0
PRODID:-//wp-events-plugin.com//7.2.3.1//EN
TZID:America/Toronto
X-WR-TIMEZONE:America/Toronto
BEGIN:VEVENT
UID:4526@martinluther.ca
DTSTART;TZID=America/Toronto;VALUE=DATE:20261227
DTEND;TZID=America/Toronto;VALUE=DATE:20261228
DTSTAMP:20260206T211119Z
URL:https://martinluther.ca/de/events/1-so-nach-weihnachten-11-00-uhr-gott
 esdienst-tbd/
SUMMARY:1. SO. NACH WEIHNACHTEN - 11.00 Uhr Gottesdienst TBD
DESCRIPTION:27. Dezember 2026 | 1. So. n. d. Christfest or 1. So. nach Weih
 nachten - 11.00 Uhr Gottesdienst TBD\n\nVon zu Hause aus: Hören Sie sich 
 unsere 15-minütigen deutschen Radioandachten an\, die jeden Sonntag um 9:
 30 Uhr live auf dem CHLO-Radiosender AM 530 (einem mehrsprachigen Radiosen
 der aus Brampton\, Ontario) ausgestrahlt. Später als Podcast-Aufzeichnung
  auf unserer Radio-Andachten-Webseite archiviert.\n\nAbonnieren Sie unse
 re E-Mail-Liste im Kirchenbüro office@martinluther.ca\nLernen Sie Pastor
  Annika Klappert kennen: Mobile: (416) 567-2487 Email: pastor@martinluthe
 r.ca\n\nMartin Luther Evangelical Lutheran Church\n2379 Lake Shore Blvd We
 st\, Toronto\, Ontario\, Canada M8V 1B7\nTel.: (416) 251-8293 office@mart
 inluther.ca\n\nFolgen Sie uns in den sozialen Medien:\nFacebook: https://
 www.facebook.com/martinlutherchurchtoronto\nInstagram: https://www.instag
 ram.com/lutheransbythelake\n\nDie Martin-Luther-Kirche Toronto ist Mitglie
 d der Evangelisch-Lutherischen Kirche in Kanada (ELCIC) und Partner der Ev
 angelischen Kirche in Deutschland (EKD).
END:VEVENT
BEGIN:VTIMEZONE
TZID:America/Toronto
X-LIC-LOCATION:America/Toronto
BEGIN:STANDARD
DTSTART:20261101T010000
TZOFFSETFROM:-0400
TZOFFSETTO:-0500
TZNAME:EST
END:STANDARD
END:VTIMEZONE
END:VCALENDAR