BEGIN:VCALENDAR
VERSION:2.0
PRODID:-//wp-events-plugin.com//7.2.3.1//EN
TZID:America/Toronto
X-WR-TIMEZONE:America/Toronto
BEGIN:VEVENT
UID:4524@martinluther.ca
DTSTART;TZID=America/Toronto;VALUE=DATE:20261225
DTEND;TZID=America/Toronto;VALUE=DATE:20261226
DTSTAMP:20251230T181823Z
URL:https://martinluther.ca/de/events/1-weihnachtstag-kein-gottesdienst/
SUMMARY:1. WEIHNACHTSTAG - Kein Gottesdienst
DESCRIPTION:Freitag\, den 25. Dezember 2026 | 1. Weihnachtstag - Kein Gotte
 sdienst
END:VEVENT
BEGIN:VTIMEZONE
TZID:America/Toronto
X-LIC-LOCATION:America/Toronto
BEGIN:STANDARD
DTSTART:20261101T010000
TZOFFSETFROM:-0400
TZOFFSETTO:-0500
TZNAME:EST
END:STANDARD
END:VTIMEZONE
END:VCALENDAR