BEGIN:VCALENDAR
VERSION:2.0
PRODID:-//wp-events-plugin.com//7.2.3.1//EN
TZID:America/Toronto
X-WR-TIMEZONE:America/Toronto
BEGIN:VEVENT
UID:4560@martinluther.ca
DTSTART;TZID=America/Toronto;VALUE=DATE:20260211
DTEND;TZID=America/Toronto;VALUE=DATE:20260212
DTSTAMP:20260123T213117Z
URL:https://martinluther.ca/de/events/11-00-uhr-seniorenkreis-karneval-tra
 ditionen-eine-aufforderung-zum-lustig-sein/
SUMMARY:11.00 Uhr Seniorenkreis -Karneval Traditionen. Eine Aufforderung zu
 m Lustig sein.
DESCRIPTION:Mittwoch\, 11. Februar 2026 | 11.00 Uhr Seniorenkreis -Karneval
  Traditionen. Eine Aufforderung zum Lustig sein.\n\nWir laden die Senioren
  unserer Gemeinde und ihre Gäste ein\, sich in der Woche vor Beginn der F
 astenzeit zu treffen\, um mehr über Karneval zu erfahren – seine Verbin
 dung zur Kirche\, seine weltweiten Feierlichkeiten und die verschiedenen d
 amit verbundenen Traditionen. Es gibt Berliner Pfannkuchen\, Sandwiches un
 d Getränke. Das Programm findet auf Deutsch und Englisch statt.\n\nSenior
 enkreis Mittwoch 11. Feb 2026 um 11.00 Uhr\n\nBitte wenden Sie sich an das
  Gemeindebüro\, um eine Mitfahrgelegenheit zu erbitten\, eine Mitfahrgele
 genheit anzubieten oder bei der Bewirtung mitzuhelfen. Kontakt (416) 251-8
 293 | office@martinluther.ca\n\nWeitere Informationen:\nBerliner Pfannku
 chen\nhttps://de.wikipedia.org/wiki/Berliner_Pfannkuchen\n\n Karneval\, Fa
 stnacht und Fasching\nhttps://de.wikipedia.org/wiki/Karneval\,_Fastnacht_u
 nd_Fasching\n\nWir suchen für diese Veranstaltung Fotografen und eine/n B
 erichterstatter/in.\n\n\n\nWeitere Informationen finden Sie auf der Websei
 te des Seniorenkreis.\n\n&nbsp\;
END:VEVENT
BEGIN:VTIMEZONE
TZID:America/Toronto
X-LIC-LOCATION:America/Toronto
BEGIN:STANDARD
DTSTART:20251102T010000
TZOFFSETFROM:-0400
TZOFFSETTO:-0500
TZNAME:EST
END:STANDARD
END:VTIMEZONE
END:VCALENDAR