BEGIN:VCALENDAR
VERSION:2.0
PRODID:-//wp-events-plugin.com//7.2.3.1//EN
TZID:America/Toronto
X-WR-TIMEZONE:America/Toronto
BEGIN:VEVENT
UID:4349@martinluther.ca
DTSTART;TZID=America/Toronto;VALUE=DATE:20250618
DTEND;TZID=America/Toronto;VALUE=DATE:20250619
DTSTAMP:20250614T230123Z
URL:https://martinluther.ca/de/events/12-00-uhr-wienecke-farm-bbq-grillfes
 t-und-potluck/
SUMMARY:12.00 Uhr Wienecke Farm BBQ-Grillfest und Potluck
DESCRIPTION:12.00 Uhr Wienecke Farm BBQ-Grillfest und Potluck\n\nRSVP by Th
 ursday June 12th\, 2025 to either Daina Wienecke or Church Office office@m
 artinluther.ca.\n\nKontaktieren Sie das Kirchenbüro office@martinluther.c
 a\, Tel.: (416) 251-8293)\, wenn Sie an dieser Veranstaltung außerhalb de
 r Stadt teilnehmen möchten und ob Sie eine Mitfahrgelegenheit anbieten k
 önnen oder benötigen. Wir organisieren Fahrgemeinschaften.
END:VEVENT
BEGIN:VTIMEZONE
TZID:America/Toronto
X-LIC-LOCATION:America/Toronto
BEGIN:DAYLIGHT
DTSTART:20250309T030000
TZOFFSETFROM:-0500
TZOFFSETTO:-0400
TZNAME:EDT
END:DAYLIGHT
END:VTIMEZONE
END:VCALENDAR