BEGIN:VCALENDAR
VERSION:2.0
PRODID:-//wp-events-plugin.com//7.2.3.1//EN
TZID:America/Toronto
X-WR-TIMEZONE:America/Toronto
BEGIN:VEVENT
UID:4123@martinluther.ca
DTSTART;TZID=America/Toronto;VALUE=DATE:20240227
DTEND;TZID=America/Toronto;VALUE=DATE:20240228
DTSTAMP:20240211T221458Z
URL:https://martinluther.ca/de/events/18-00-uhr-chorprobe-zur-vorbereitung
 -auf-karfreitag-und-ostern-3/
SUMMARY:18.00 Uhr Chorprobe zur Vorbereitung auf Karfreitag und Ostern
DESCRIPTION:18.00 Uhr Chorprobe zur Vorbereitung auf Karfreitag und Ostern\
 n\nKontakt: Linda Marcinkus\, Organistin und Chorleiterin via office@marti
 nluther\,ca
END:VEVENT
BEGIN:VTIMEZONE
TZID:America/Toronto
X-LIC-LOCATION:America/Toronto
BEGIN:STANDARD
DTSTART:20231105T010000
TZOFFSETFROM:-0400
TZOFFSETTO:-0500
TZNAME:EST
END:STANDARD
END:VTIMEZONE
END:VCALENDAR