BEGIN:VCALENDAR
VERSION:2.0
PRODID:-//wp-events-plugin.com//7.2.3.1//EN
TZID:America/Toronto
X-WR-TIMEZONE:America/Toronto
BEGIN:VEVENT
UID:4127@martinluther.ca
DTSTART;TZID=America/Toronto;VALUE=DATE:20240312
DTEND;TZID=America/Toronto;VALUE=DATE:20240313
DTSTAMP:20240211T222908Z
URL:https://martinluther.ca/de/events/18-00-uhr-chorprobe-zur-vorbereitung
 -auf-karfreitag-und-ostern-5/
SUMMARY:18.00 Uhr Chorprobe zur Vorbereitung auf Karfreitag und Ostern
DESCRIPTION:18.00 Uhr Chorprobe zur Vorbereitung auf Karfreitag und Ostern\
 n\nKontakt Linda Marcinkus\, Organistin und Chorleiterin via office@martin
 luther.ca
END:VEVENT
BEGIN:VTIMEZONE
TZID:America/Toronto
X-LIC-LOCATION:America/Toronto
BEGIN:DAYLIGHT
DTSTART:20240310T030000
TZOFFSETFROM:-0500
TZOFFSETTO:-0400
TZNAME:EDT
END:DAYLIGHT
END:VTIMEZONE
END:VCALENDAR