BEGIN:VCALENDAR
VERSION:2.0
PRODID:-//wp-events-plugin.com//7.2.3.1//EN
TZID:America/Toronto
X-WR-TIMEZONE:America/Toronto
BEGIN:VEVENT
UID:4562@martinluther.ca
DTSTART;TZID=America/Toronto;VALUE=DATE:20261118
DTEND;TZID=America/Toronto;VALUE=DATE:20261119
DTSTAMP:20260116T213452Z
URL:https://martinluther.ca/de/events/19-00-dinner-church/
SUMMARY:19.00 Dinner Church
DESCRIPTION:Mittwoch\, 18. November 2026 | 19.00 Uhr Dinner Church\n\nWeite
 re Informationen finden Sie auf der Webseite des Dinner Churches.
END:VEVENT
BEGIN:VTIMEZONE
TZID:America/Toronto
X-LIC-LOCATION:America/Toronto
BEGIN:STANDARD
DTSTART:20261101T010000
TZOFFSETFROM:-0400
TZOFFSETTO:-0500
TZNAME:EST
END:STANDARD
END:VTIMEZONE
END:VCALENDAR