BEGIN:VCALENDAR
VERSION:2.0
PRODID:-//wp-events-plugin.com//7.2.3.1//EN
TZID:America/Toronto
X-WR-TIMEZONE:America/Toronto
BEGIN:VEVENT
UID:4185@martinluther.ca
DTSTART;TZID=America/Toronto;VALUE=DATE:20241127
DTEND;TZID=America/Toronto;VALUE=DATE:20241128
DTSTAMP:20241122T115436Z
URL:https://martinluther.ca/de/events/19-00-uhr-dinner-church-jahresrueckb
 lick/
SUMMARY:19.00 Uhr Dinner Church - Jahresrückblick
DESCRIPTION:Mittwoch\, den 27. November 2024 um 19:00 Uhr - Dinner Church. 
 Letzter im Jahr 2024.\n\nNehmen Sie an unserem zweiten Jahresrückblick te
 il. Markieren Sie die Themen/Elemente\, die Ihnen am besten gefallen haben
 \, und reflektieren Sie in kleinen Gruppen. Planung für das nächste Jahr
 .\n\nWir werden auch ein Potluck-Essen genießen\, singen und beten.\n\n
END:VEVENT
BEGIN:VTIMEZONE
TZID:America/Toronto
X-LIC-LOCATION:America/Toronto
BEGIN:STANDARD
DTSTART:20241103T010000
TZOFFSETFROM:-0400
TZOFFSETTO:-0500
TZNAME:EST
END:STANDARD
END:VTIMEZONE
END:VCALENDAR