BEGIN:VCALENDAR
VERSION:2.0
PRODID:-//wp-events-plugin.com//7.2.3.1//EN
TZID:America/Toronto
X-WR-TIMEZONE:America/Toronto
BEGIN:VEVENT
UID:4351@martinluther.ca
DTSTART;TZID=America/Toronto:20250625T190000
DTEND;TZID=America/Toronto:20250625T210000
DTSTAMP:20250614T145314Z
URL:https://martinluther.ca/de/events/19-00-uhr-dinner-church-mit-gastredn
 er-tope-barrett-associate-director-bei-youth-unlimited/
SUMMARY:19.00 Uhr Dinner Church mit Gastrednerin Tope Barrett\, Associate D
 irector bei Youth Unlimited
DESCRIPTION:[caption id="attachment_53494" align="alignright" width="300"] 
 Tobe Barrett -Youth Unlimited[/caption]\n\nMittwoch\, 29. Juni 2025 19.00 
 Uhr Dinner Church mit Gastredner Tope Barrett\, Associate Director bei You
 th Unlimited (https://www.yugta.ca/)\n\n&nbsp\;\n\nWir treffen uns bei sch
 önem Wetter im Garten der Kirche. Für Essensspenden und Hilfe beim Auf- 
 und Abbau sind wir dankbar.\n\n
END:VEVENT
BEGIN:VTIMEZONE
TZID:America/Toronto
X-LIC-LOCATION:America/Toronto
BEGIN:DAYLIGHT
DTSTART:20250309T030000
TZOFFSETFROM:-0500
TZOFFSETTO:-0400
TZNAME:EDT
END:DAYLIGHT
END:VTIMEZONE
END:VCALENDAR