BEGIN:VCALENDAR
VERSION:2.0
PRODID:-//wp-events-plugin.com//7.2.3.1//EN
TZID:America/Toronto
X-WR-TIMEZONE:America/Toronto
BEGIN:VEVENT
UID:4353@martinluther.ca
DTSTART;TZID=America/Toronto;VALUE=DATE:20250617
DTEND;TZID=America/Toronto;VALUE=DATE:20250618
DTSTAMP:20250614T110914Z
URL:https://martinluther.ca/de/events/19-00-uhr-online-bibelkreis-mit-otta
 wa-und-washington-auf-deutsch-und-englisch/
SUMMARY:19.00 Uhr Online-Bibelkreis mit Ottawa und Washington auf Deutsch u
 nd Englisch
DESCRIPTION:19.00 Uhr Online-Bibelkreis mit Ottawa und Washington auf Deuts
 ch und Englisch\n\n&nbsp\;\n\nFor Zoom link contact church office
END:VEVENT
BEGIN:VTIMEZONE
TZID:America/Toronto
X-LIC-LOCATION:America/Toronto
BEGIN:DAYLIGHT
DTSTART:20250309T030000
TZOFFSETFROM:-0500
TZOFFSETTO:-0400
TZNAME:EDT
END:DAYLIGHT
END:VTIMEZONE
END:VCALENDAR