BEGIN:VCALENDAR
VERSION:2.0
PRODID:-//wp-events-plugin.com//7.2.3.1//EN
TZID:America/Toronto
X-WR-TIMEZONE:America/Toronto
BEGIN:VEVENT
UID:4137@martinluther.ca
DTSTART;TZID=America/Toronto;VALUE=DATE:20240216
DTEND;TZID=America/Toronto;VALUE=DATE:20240217
DTSTAMP:20240213T214156Z
URL:https://martinluther.ca/de/events/19-30-fastenaktion-der-ekd-7wochenoh
 ne-in-gemeinschaft-mit-delkina-auf-zoom-freitag/
SUMMARY:19.30 Fastenaktion der EKD – 7Wochenohne – in Gemeinschaft mit 
 DELKINA auf Zoom [Freitag]
DESCRIPTION:Freitag\, 16. Februar 2024 - 19.30 Fastenaktion der EKD – 7Wo
 chenohne – in Gemeinschaft mit DELKINA auf Zoom [Freitag]\n\nIn der erst
 en und letzten Fastenwoche treffen wir uns auf Zoom gemeinsam mit den deut
 schsprachigen DELKINA-Gemeinden über unsere Erfahrungen\, Erkenntnisse un
 d Fragen zur diesjährigen Fastenaktion der Evangelische Kirche in Deutsch
 land (EKD) namens „7Wochenohne“. 2024 Motto: Komm rüber! 7 Wochen ohn
 e Alleingänge\n\n(DELKINA – Deutsche Evangelisch-Lutherische Konferenz 
 in Nordamerika)\n\nMelden Sie sich für die kostenlosen wöchentlichen E-M
 ails der Fastenaktion an\, indem Sie sich einfach auf der Website https://
 7wochenohne.evangelisch.de/fastenmail registrieren.\n\nDa es viel einfache
 r ist\, die Aktion gemeinsam durchzuführen\, bietet DELKINA dieses Jahr e
 ine Fastengruppe an und wir freuen uns darauf\, Sie kennenzulernen!\n\nUnt
 er der Leitung von Pastor Dr. Martin Eberle\, Deutsche Lutherische Kirche 
 Washington\, DC\, USA und Pastorin Annika Klappert\, Martin Luther Evangel
 isch-Lutherische Kirche\, Toronto\, Kanada\n\nFreitag\, 16. Februar 2024 v
 on 19:30 bis 20:15 Uhr auf Zoom\n\nDienstag\, 26. März 2024 von 19:30 bis
  20:15 Uhr auf Zoom\n\nTreten Sie dem Zoom-Meeting bei\nhttps://us02web.zo
 om.us/j/88204340508?pwd=MEk1dmZUTms1cWlhQ2RrLzVUcHZ2UT09\n\nMeeting-ID: 88
 2 0434 0508\nPasscode: 572743\n\n"Komm rüber! 7 Wochen ohne Alleingänge"
  - unter diesem Motto steht die diesjährige Fastenaktion der Evangelische
  Kirche in Deutschland (EKD). Die Aktion läuft von Aschermittwoch (14. Fe
 bruar 2024) bis Ostern. Per Email  können Sie sich geistliche Impulse in
  Form von Bildern\, Geschichten und Gedichten zukommen lassen. Diese solle
 n dazu anregen\, über das eigene Leben und den Glauben nachzudenken. Ob S
 ie dabei nicht nur im Kopf\, sondern auch mit dem Körper fasten möchten\
 , bleibt ganz Ihnen selbst überlassen.\n\n\n\nQuelle: 7Wochenohne/Getty I
 mages
END:VEVENT
BEGIN:VTIMEZONE
TZID:America/Toronto
X-LIC-LOCATION:America/Toronto
BEGIN:STANDARD
DTSTART:20231105T010000
TZOFFSETFROM:-0400
TZOFFSETTO:-0500
TZNAME:EST
END:STANDARD
END:VTIMEZONE
END:VCALENDAR