BEGIN:VCALENDAR
VERSION:2.0
PRODID:-//wp-events-plugin.com//7.2.3.1//EN
TZID:America/Toronto
X-WR-TIMEZONE:America/Toronto
BEGIN:VEVENT
UID:4135@martinluther.ca
DTSTART;TZID=America/Toronto;VALUE=DATE:20240326
DTEND;TZID=America/Toronto;VALUE=DATE:20240327
DTSTAMP:20240213T214047Z
URL:https://martinluther.ca/de/events/19-30-uhr-fastenaktion-der-ekd-7woch
 enohne-in-gemeinschaft-mit-delkina-auf-zoom-dienstag/
SUMMARY:19.30 Uhr Fastenaktion der EKD – 7Wochenohne – in Gemeinschaft 
 mit DELKINA auf Zoom [Dienstag]
DESCRIPTION:19.30 Uhr Fastenaktion der EKD – 7Wochenohne – in Gemeinsch
 aft mit DELKINA auf Zoom\n\nIn der ersten und letzten Fastenwoche treffen 
 wir uns auf Zoom gemeinsam mit den deutschsprachigen DELKINA-Gemeinden üb
 er unsere Erfahrungen\, Erkenntnisse und Fragen zur diesjährigen Fastenak
 tion der Evangelische Kirche Deutschland (EKD) namens „7Wochenohne“. 2
 024 Motto: „Komm rüber! 7 Wochen ohne Alleingänge"\n\n(DELKINA – Deu
 tsche Evangelisch-Lutherische Konferenz in Nordamerika)\n\nMelden Sie sich
  für die kostenlosen wöchentlichen E-Mails der Fastenaktion an\, indem S
 ie sich einfach auf der Website https://7wochenohne.evangelisch.de/fastenm
 ail registrieren.\n\nDa es viel einfacher ist\, die Aktion gemeinsam durch
 zuführen\, bietet DELKINA dieses Jahr eine Fastengruppe an und wir freuen
  uns darauf\, Sie kennenzulernen!\n\nUnter der Leitung von Pastor Dr. Mart
 in Eberle\, Deutsche Lutherische Kirche Washington\, DC\, USA und Pastorin
  Annika Klappert\, Martin Luther Evangelisch-Lutherische Kirche\, Toronto\
 , Kanada\n\nFreitag\, 16. Februar 2024 von 19:30 bis 20:15 Uhr auf Zoom\n\
 nDienstag\, 26. März 2024 von 19:30 bis 20:15 Uhr auf Zoom\n\nTreten Sie 
 dem Zoom-Meeting bei\nhttps://us02web.zoom.us/j/88204340508?pwd=MEk1dmZUTm
 s1cWlhQ2RrLzVUcHZ2UT09\n\nMeeting-ID: 882 0434 0508\nPasscode: 572743\n\n"
 Komm rüber! 7 Wochen ohne Alleingänge" - unter diesem Motto steht die di
 esjährige Fastenaktion der Evangelische Kirche in Deutschland. Die Aktion
  läuft von Aschermittwoch (14. Februar 2024) bis Ostern. Per Email  kön
 nen Sie sich geistliche Impulse in Form von Bildern\, Geschichten und Gedi
 chten zukommen lassen. Diese sollen dazu anregen\, über das eigene Leben 
 und den Glauben nachzudenken. Ob Sie dabei nicht nur im Kopf\, sondern auc
 h mit dem Körper fasten möchten\, bleibt ganz Ihnen selbst überlassen.\
 n\n
END:VEVENT
BEGIN:VTIMEZONE
TZID:America/Toronto
X-LIC-LOCATION:America/Toronto
BEGIN:DAYLIGHT
DTSTART:20240310T030000
TZOFFSETFROM:-0500
TZOFFSETTO:-0400
TZNAME:EDT
END:DAYLIGHT
END:VTIMEZONE
END:VCALENDAR