BEGIN:VCALENDAR
VERSION:2.0
PRODID:-//wp-events-plugin.com//7.2.3.1//EN
TZID:America/Toronto
X-WR-TIMEZONE:America/Toronto
BEGIN:VEVENT
UID:4110@martinluther.ca
DTSTART;TZID=America/Toronto:20240312T190000
DTEND;TZID=America/Toronto:20240312T210000
DTSTAMP:20240106T184247Z
URL:https://martinluther.ca/de/events/1900-uhr-bibelstunde-ueber-zoom-auf-
 deutsch-und-englisch-dienstag-einmal-im-monat/
SUMMARY:19:00 Uhr Bibelstunde über Zoom auf Deutsch und Englisch [Dienstag
 \, einmal im Monat]
DESCRIPTION:19:00 Uhr Bibelstunde über Zoom auf Deutsch und Englisch [Dien
 stag\, einmal im Monat]\n\nBisher haben wir diese 3 Termine ausgewählt: D
 ienstag\, 12. März\, Dienstag\, 16. April und Dienstag\, 14. Mai 2024 um 
 19 Uhr\n\nBibelstunde auf Englisch und Deutsch:\n\nWir werden uns als Vorb
 ereitung auf die Sonntagspredigt jeweils auf das Evangelium der Woche konz
 entrieren. Lernen Sie gemeinsam mit Pastorin Judith Kierschke (Ottawa) und
  Pastorin Annika Klappert (Toronto) den geschichtlichen und theologischen 
 Hintergrund eines Bibeltextes kennen und finden Sie neue Wege\, ihn auf un
 sere Lebenswirklichkeit anzuwenden! Beide Leiterinnen sprechen Deutsch und
  Englisch\, so dass wir uns nach Sprachen aufteilen können\, wenn dies ge
 wünscht wird.\n\nAbonnieren Sie unsere E-Mail-Liste im Kirchenbüro offic
 e@martinluther.ca\n\nNeuigkeiten finden Sie unter: https://martinluther.ca
 /de/news-der-gemeinde/\n\nMartin Luther Evangelical Lutheran Church\n2379 
 Lake Shore Blvd West\, Toronto\, Ontario\, Canada M8V 1B7\nTel.: (416) 251
 -8293 office@martinluther.ca\n\nFolgen Sie uns in den sozialen Medien:\nFa
 cebook: https://www.facebook.com/martinlutherchurchtoronto\nInstagram: htt
 ps://www.instagram.com/lutheransbythelake\n\nDie Martin-Luther-Kirche Toro
 nto ist Mitglied der Evangelisch-Lutherischen Kirche in Kanada (ELCIC) und
  Partner der Evangelischen Kirche in Deutschland (EKD).\n\n&nbsp\;
END:VEVENT
BEGIN:VTIMEZONE
TZID:America/Toronto
X-LIC-LOCATION:America/Toronto
BEGIN:DAYLIGHT
DTSTART:20240310T030000
TZOFFSETFROM:-0500
TZOFFSETTO:-0400
TZNAME:EDT
END:DAYLIGHT
END:VTIMEZONE
END:VCALENDAR