BEGIN:VCALENDAR
VERSION:2.0
PRODID:-//wp-events-plugin.com//7.2.3.1//EN
TZID:America/Toronto
X-WR-TIMEZONE:America/Toronto
BEGIN:VEVENT
UID:4516@martinluther.ca
DTSTART;TZID=America/Toronto;VALUE=DATE:20261206
DTEND;TZID=America/Toronto;VALUE=DATE:20261207
DTSTAMP:20260206T210959Z
URL:https://martinluther.ca/de/events/2-adventssonntag-11-00-uhr-gottesdie
 nst-tbd/
SUMMARY:2. ADVENTSSONNTAG - 11.00 Uhr Gottesdienst TBD
DESCRIPTION:6. Dezember 2026 | 2. Adventssonntag - 11.00 Uhr Gottesdienst T
 BD\n\n&nbsp\;\n\nVon zu Hause aus: Hören Sie sich unsere 15-minütigen de
 utschen Radioandachten an\, die jeden Sonntag um 9:30 Uhr live auf dem CHL
 O-Radiosender AM 530 (einem mehrsprachigen Radiosender aus Brampton\, Onta
 rio) ausgestrahlt. Später als Podcast-Aufzeichnung auf unserer Radio-And
 achten-Webseite archiviert.\n\nAbonnieren Sie unsere E-Mail-Liste im Kirc
 henbüro office@martinluther.ca\nLernen Sie Pastor Annika Klappert kennen
 : Mobile: (416) 567-2487 Email: pastor@martinluther.ca\n\nMartin Luther E
 vangelical Lutheran Church\n2379 Lake Shore Blvd West\, Toronto\, Ontario\
 , Canada M8V 1B7\nTel.: (416) 251-8293 office@martinluther.ca\n\nFolgen S
 ie uns in den sozialen Medien:\nFacebook: https://www.facebook.com/martin
 lutherchurchtoronto\nInstagram: https://www.instagram.com/lutheransbythel
 ake\n\nDie Martin-Luther-Kirche Toronto ist Mitglied der Evangelisch-Luthe
 rischen Kirche in Kanada (ELCIC) und Partner der Evangelischen Kirche in D
 eutschland (EKD).
END:VEVENT
BEGIN:VTIMEZONE
TZID:America/Toronto
X-LIC-LOCATION:America/Toronto
BEGIN:STANDARD
DTSTART:20261101T010000
TZOFFSETFROM:-0400
TZOFFSETTO:-0500
TZNAME:EST
END:STANDARD
END:VTIMEZONE
END:VCALENDAR