BEGIN:VCALENDAR
VERSION:2.0
PRODID:-//wp-events-plugin.com//7.2.3.1//EN
TZID:America/Toronto
X-WR-TIMEZONE:America/Toronto
BEGIN:VEVENT
UID:4425@martinluther.ca
DTSTART;TZID=America/Toronto;VALUE=DATE:20260301
DTEND;TZID=America/Toronto;VALUE=DATE:20260302
DTSTAMP:20251230T000400Z
URL:https://martinluther.ca/de/events/2-so-in-der-passionszeit-945-uhr-eng
 lische-andacht-1100-uhr-deutscher-gottesdienst-mit-abendmahl/
SUMMARY:2. SO. IN DER PASSIONSZEIT -9:45 Uhr englische Andacht + 11:00 Uhr 
 deutscher Gottesdienst mit Abendmahl
DESCRIPTION:1.Maerz 2026 | 2. So. in der Passionszeit  -9:45 Uhr englische
  Andacht + 11:00 Uhr deutscher Gottesdienst mit Abendmahl\n\n&nbsp\;\n\nVo
 n zu Hause aus: Hören Sie sich unsere 15-minütigen deutschen Radioandach
 ten an\, die jeden Sonntag um 9:30 Uhr live auf dem CHLO-Radiosender AM 53
 0 (einem mehrsprachigen Radiosender aus Brampton\, Ontario) ausgestrahlt. 
 Später als Podcast-Aufzeichnung auf unserer Radio-Andachten-Webseite ar
 chiviert.\n\nAbonnieren Sie unsere E-Mail-Liste im Kirchenbüro office@ma
 rtinluther.ca\n\nLernen Sie Pastor Annika Klappert kennen: Mobile: (416) 5
 67-2487 Email: pastor@martinluther.ca\n\nMartin Luther Evangelical Luther
 an Church\n2379 Lake Shore Blvd West\, Toronto\, Ontario\, Canada M8V 1B7\
 nTel.: (416) 251-8293 office@martinluther.ca\n\nFolgen Sie uns in den soz
 ialen Medien:\nFacebook: https://www.facebook.com/martinlutherchurchtoron
 to\nInstagram: https://www.instagram.com/lutheransbythelake\n\nDie Martin
 -Luther-Kirche Toronto ist Mitglied der Evangelisch-Lutherischen Kirche in
  Kanada (ELCIC) und Partner der Evangelischen Kirche in Deutschland (EKD).
END:VEVENT
BEGIN:VTIMEZONE
TZID:America/Toronto
X-LIC-LOCATION:America/Toronto
BEGIN:STANDARD
DTSTART:20251102T010000
TZOFFSETFROM:-0400
TZOFFSETTO:-0500
TZNAME:EST
END:STANDARD
END:VTIMEZONE
END:VCALENDAR