BEGIN:VCALENDAR
VERSION:2.0
PRODID:-//wp-events-plugin.com//7.2.3.1//EN
TZID:America/Toronto
X-WR-TIMEZONE:America/Toronto
BEGIN:VEVENT
UID:4098@martinluther.ca
DTSTART;TZID=America/Toronto;VALUE=DATE:20241215
DTEND;TZID=America/Toronto;VALUE=DATE:20241216
DTSTAMP:20241209T230841Z
URL:https://martinluther.ca/de/events/3-advent-11-00-uhr-weihnachtsspiel-f
 uer-kinder-zweisprachig-mit-weihnachtsliedern-mitwirkende-gesucht-eltern-m
 it-kindern-schauspieler-jung-und-alt-laienpredigerin-iris-schweiger/
SUMMARY:3. ADVENT - 11.00 Uhr Weihnachtsspiel für Kinder. Zweisprachig mit
  Weihnachtsliedern. Mitwirkende gesucht. Eltern mit Kindern. Schauspieler 
 jung und alt. (Laienpredigerin Iris Schweiger)
DESCRIPTION:15. Dezember 2024 -  3. ADVENT - 11:00 Uhr Weihnachtsspiel Deu
 tsch- Englischer Gottesdienst. Mitwirkende gesucht. Eltern mit Kindern. Sc
 hauspieler jung und alt. (Laienpredigerin Iris Schweiger)\n\nKontakt: Alex
  Boettcher techteam@martinluther.ca\n\n&nbsp\;\n\nAlle sind herzlich einge
 laden\, sich nach dem Gottesdienst im Foyer zu versammeln.\n\nKönnen Sie 
 mit Kaffee und Kuchen / Saft und Weihnachtsplätzchen helfen Bewirtung?  
 Sie können Essen (Dessert\, Obsttablett\, usw.)\, Vorräte (Kaffee\, Tee\
 , Milch\, Sahne) mitbringen und/oder beim Einrichten\, Servieren und Aufr
 äumen helfen: Geschirr spülen und Tische abwischen. Stühle stapeln und 
 wegräumen. Melden Sie sich an\, um bei der Gastfreundschaft zu helfen.\n\
 n\n\nVon zu Hause aus: Hören Sie sich unsere 15-minütigen deutschen Radi
 oandachten an\, die jeden Sonntag um 9:30 Uhr live auf dem CHLO-Radiosende
 r AM 530 (einem mehrsprachigen Radiosender aus Brampton\, Ontario) ausgest
 rahlt. Später als Podcast-Aufzeichnung auf unserer Radio-Andachten-Websei
 te archiviert.\n\nAbonnieren Sie unsere E-Mail-Liste im Kirchenbüro offic
 e@martinluther.ca\nNeuigkeiten finden Sie unter: https://martinluther.ca/d
 e/news-der-gemeinde/\n\nMartin Luther Evangelical Lutheran Church\n2379 La
 ke Shore Blvd West\, Toronto\, Ontario\, Canada M8V 1B7\nTel.: (416) 251-8
 293 office@martinluther.ca\n\nFolgen Sie uns in den sozialen Medien:\nFace
 book: https://www.facebook.com/martinlutherchurchtoronto\nInstagram: https
 ://www.instagram.com/lutheransbythelake\n\nDie Martin-Luther-Kirche Toront
 o ist Mitglied der Evangelisch-Lutherischen Kirche in Kanada (ELCIC) und P
 artner der Evangelischen Kirche in Deutschland (EKD).
ATTACH;FMTTYPE=image/jpeg:https://martinluther.ca/wp-content/uploads/2024/
 11/2024-12-15-Christmas-Play-Invite-Instagram-Postmm_mf3.jpg
END:VEVENT
BEGIN:VTIMEZONE
TZID:America/Toronto
X-LIC-LOCATION:America/Toronto
BEGIN:STANDARD
DTSTART:20241103T010000
TZOFFSETFROM:-0400
TZOFFSETTO:-0500
TZNAME:EST
END:STANDARD
END:VTIMEZONE
END:VCALENDAR