BEGIN:VCALENDAR
VERSION:2.0
PRODID:-//wp-events-plugin.com//7.2.3.1//EN
TZID:America/Toronto
X-WR-TIMEZONE:America/Toronto
BEGIN:VEVENT
UID:4518@martinluther.ca
DTSTART;TZID=America/Toronto;VALUE=DATE:20261213
DTEND;TZID=America/Toronto;VALUE=DATE:20261214
DTSTAMP:20260206T210919Z
URL:https://martinluther.ca/de/events/3-adventssonntag-1100-uhr-gottesdien
 st-tbd/
SUMMARY:3. ADVENTSSONNTAG -11:00 Uhr Gottesdienst TBD
DESCRIPTION:13. Dezember 2026 | 3. Adventssonntag -11:00 Uhr Gottesdienst T
 BD\n\nVon zu Hause aus: Hören Sie sich unsere 15-minütigen deutschen Rad
 ioandachten an\, die jeden Sonntag um 9:30 Uhr live auf dem CHLO-Radiosend
 er AM 530 (einem mehrsprachigen Radiosender aus Brampton\, Ontario) ausges
 trahlt. Später als Podcast-Aufzeichnung auf unserer Radio-Andachten-Webs
 eite archiviert.\n\nAbonnieren Sie unsere E-Mail-Liste im Kirchenbüro o
 ffice@martinluther.ca\nLernen Sie Pastor Annika Klappert kennen: Mobile: (
 416) 567-2487 Email: pastor@martinluther.ca\n\nMartin Luther Evangelical 
 Lutheran Church\n2379 Lake Shore Blvd West\, Toronto\, Ontario\, Canada M8
 V 1B7\nTel.: (416) 251-8293 office@martinluther.ca\n\nFolgen Sie uns in d
 en sozialen Medien:\nFacebook: https://www.facebook.com/martinlutherchurc
 htoronto\nInstagram: https://www.instagram.com/lutheransbythelake\n\nDie 
 Martin-Luther-Kirche Toronto ist Mitglied der Evangelisch-Lutherischen Kir
 che in Kanada (ELCIC) und Partner der Evangelischen Kirche in Deutschland 
 (EKD).
END:VEVENT
BEGIN:VTIMEZONE
TZID:America/Toronto
X-LIC-LOCATION:America/Toronto
BEGIN:STANDARD
DTSTART:20261101T010000
TZOFFSETFROM:-0400
TZOFFSETTO:-0500
TZNAME:EST
END:STANDARD
END:VTIMEZONE
END:VCALENDAR