BEGIN:VCALENDAR
VERSION:2.0
PRODID:-//wp-events-plugin.com//7.2.3.1//EN
TZID:America/Toronto
X-WR-TIMEZONE:America/Toronto
BEGIN:VEVENT
UID:4463@martinluther.ca
DTSTART;TZID=America/Toronto;VALUE=DATE:20260614
DTEND;TZID=America/Toronto;VALUE=DATE:20260615
DTSTAMP:20260313T164145Z
URL:https://martinluther.ca/de/events/3-so-nach-pfingsten-945-uhr-andacht-
 auf-englisch-1100-uhr-deutscher-mit-abendmahl/
SUMMARY:3. SO. NACH PFINGSTEN - 9:45 Uhr Andacht auf Englisch + 11:00 Uhr D
 EUTSCHER mit Abendmahl
DESCRIPTION:14. Juni 2026 | 3. SO. NACH PFINGSTEN - 9:45 Uhr Andacht auf En
 glisch + 11:00 Uhr DEUTSCHER mit Abendmahl (Pastorin Annika Klappert)\n\nL
 ernen Sie Pastorin Annika Klappert kennen: Mobile: (416) 567-2487 Email: p
 astor@martinluther.ca\n\nVon zu Hause aus: Hören Sie sich unsere 15-minü
 tigen deutschen Radioandachten an\, die jeden Sonntag um 9:30 Uhr live auf
  dem CHLO-Radiosender AM 530 (einem mehrsprachigen Radiosender aus Brampto
 n\, Ontario) ausgestrahlt. Später als Podcast-Aufzeichnung auf unserer R
 adio-Andachten-Webseite archiviert.\n\nAbonnieren Sie unsere E-Mail-Liste
  im Kirchenbüro office@martinluther.ca\n\nMartin Luther Evangelical Luth
 eran Church\n2379 Lake Shore Blvd West\, Toronto\, Ontario\, Canada M8V 1B
 7\nTel.: (416) 251-8293 office@martinluther.ca\n\nFolgen Sie uns in den s
 ozialen Medien:\nFacebook: https://www.facebook.com/martinlutherchurchtor
 onto\nInstagram: https://www.instagram.com/lutheransbythelake\n\nDie Mart
 in-Luther-Kirche Toronto ist Mitglied der Evangelisch-Lutherischen Kirche 
 in Kanada (ELCIC) und Partner der Evangelischen Kirche in Deutschland (EKD
 ).
END:VEVENT
BEGIN:VTIMEZONE
TZID:America/Toronto
X-LIC-LOCATION:America/Toronto
BEGIN:DAYLIGHT
DTSTART:20260308T030000
TZOFFSETFROM:-0500
TZOFFSETTO:-0400
TZNAME:EDT
END:DAYLIGHT
END:VTIMEZONE
END:VCALENDAR