BEGIN:VCALENDAR
VERSION:2.0
PRODID:-//wp-events-plugin.com//7.2.3.1//EN
TZID:America/Toronto
X-WR-TIMEZONE:America/Toronto
BEGIN:VEVENT
UID:4100@martinluther.ca
DTSTART;TZID=America/Toronto;VALUE=DATE:20241222
DTEND;TZID=America/Toronto;VALUE=DATE:20241223
DTSTAMP:20241104T112723Z
URL:https://martinluther.ca/de/events/4-advent-945-uhr-englische-andacht-1
 100-uhr-deutscher-gottesdienst-laienpredigerin-tanya-zielke/
SUMMARY:4. ADVENT - 9:45 Uhr Englische Andacht + 11:00 Uhr DEUTSCHER Gottes
 dienst (Laienpredigerin Tanya Zielke)
DESCRIPTION:22. Dezember 2024 - 4. ADVENT - 9:45 Uhr Englische Andacht + 11
 :00 Uhr DEUTSCHER Gottesdienst (Laienprediger Tanya Zielke)\n\nAdvent. Wir
  warten auf das Kommen Christi\n\nKaffee und Kuchen\nKönnen Sie sonntags 
 und zu besonderen Anlässen mit Kaffee und Kuchen/Bewirtung in unserer Kir
 che helfen? Sie können Essen (Dessert\, Obsttablett\, Käsetablett usw.)\
 , Vorräte (Kaffee\, Tee\, Milch\, Sahne) mitbringen und/oder beim Einrich
 ten\, Servieren und Aufräumen helfen: Geschirr spülen und Tische abwisch
 en. Stühle stapeln und wegräumen.\n\nVon zu Hause aus: Hören Sie sich u
 nsere 15-minütigen deutschen Radioandachten an\, die jeden Sonntag um 9:3
 0 Uhr live auf dem CHLO-Radiosender AM 530 (einem mehrsprachigen Radiosend
 er aus Brampton\, Ontario) ausgestrahlt. Später als Podcast-Aufzeichnung 
 auf unserer Radio-Andachten-Webseite archiviert.\n\nAbonnieren Sie unsere 
 E-Mail-Liste im Kirchenbüro office@martinluther.ca\nNeuigkeiten finden Si
 e unter: https://martinluther.ca/de/news-der-gemeinde/\n\nMartin Luther Ev
 angelical Lutheran Church\n2379 Lake Shore Blvd West\, Toronto\, Ontario\,
  Canada M8V 1B7\nTel.: (416) 251-8293 office@martinluther.ca\n\nFolgen Sie
  uns in den sozialen Medien:\nFacebook: https://www.facebook.com/martinlut
 herchurchtoronto\nInstagram: https://www.instagram.com/lutheransbythelake\
 n\nDie Martin-Luther-Kirche Toronto ist Mitglied der Evangelisch-Lutherisc
 hen Kirche in Kanada (ELCIC) und Partner der Evangelischen Kirche in Deuts
 chland (EKD).
END:VEVENT
BEGIN:VTIMEZONE
TZID:America/Toronto
X-LIC-LOCATION:America/Toronto
BEGIN:STANDARD
DTSTART:20241103T010000
TZOFFSETFROM:-0400
TZOFFSETTO:-0500
TZNAME:EST
END:STANDARD
END:VTIMEZONE
END:VCALENDAR