BEGIN:VCALENDAR
VERSION:2.0
PRODID:-//wp-events-plugin.com//7.2.3.1//EN
TZID:America/Toronto
X-WR-TIMEZONE:America/Toronto
BEGIN:VEVENT
UID:4520@martinluther.ca
DTSTART;TZID=America/Toronto;VALUE=DATE:20261220
DTEND;TZID=America/Toronto;VALUE=DATE:20261221
DTSTAMP:20260206T210849Z
URL:https://martinluther.ca/de/events/4-adventssonntag-1100-uhr-krippenspi
 el-zweisprachiger-deutsch-englischer-gottesdienst/
SUMMARY:4. ADVENTSSONNTAG -11:00 Uhr Krippenspiel (zweisprachiger deutsch-e
 nglischer Gottesdienst)
DESCRIPTION:December 20\, 2026 | 4. Adventssonntag -11:00 Uhr Krippenspiel 
 (zweisprachiger deutsch-englischer Gottesdienst)\n\n&nbsp\;\n\nVon zu Haus
 e aus: Hören Sie sich unsere 15-minütigen deutschen Radioandachten an\, 
 die jeden Sonntag um 9:30 Uhr live auf dem CHLO-Radiosender AM 530 (einem 
 mehrsprachigen Radiosender aus Brampton\, Ontario) ausgestrahlt. Später a
 ls Podcast-Aufzeichnung auf unserer Radio-Andachten-Webseite archiviert.
 \n\nAbonnieren Sie unsere E-Mail-Liste im Kirchenbüro office@martinluthe
 r.ca\nLernen Sie Pastor Annika Klappert kennen: Mobile: (416) 567-2487 Ema
 il: pastor@martinluther.ca\n\nMartin Luther Evangelical Lutheran Church\n
 2379 Lake Shore Blvd West\, Toronto\, Ontario\, Canada M8V 1B7\nTel.: (416
 ) 251-8293 office@martinluther.ca\n\nFolgen Sie uns in den sozialen Medie
 n:\nFacebook: https://www.facebook.com/martinlutherchurchtoronto\nInstagr
 am: https://www.instagram.com/lutheransbythelake\n\nDie Martin-Luther-Kir
 che Toronto ist Mitglied der Evangelisch-Lutherischen Kirche in Kanada (EL
 CIC) und Partner der Evangelischen Kirche in Deutschland (EKD).
END:VEVENT
BEGIN:VTIMEZONE
TZID:America/Toronto
X-LIC-LOCATION:America/Toronto
BEGIN:STANDARD
DTSTART:20261101T010000
TZOFFSETFROM:-0400
TZOFFSETTO:-0500
TZNAME:EST
END:STANDARD
END:VTIMEZONE
END:VCALENDAR