BEGIN:VCALENDAR
VERSION:2.0
PRODID:-//wp-events-plugin.com//7.2.3.1//EN
TZID:America/Toronto
X-WR-TIMEZONE:America/Toronto
BEGIN:VEVENT
UID:4417@martinluther.ca
DTSTART;TZID=America/Toronto;VALUE=DATE:20260208
DTEND;TZID=America/Toronto;VALUE=DATE:20260209
DTSTAMP:20260206T203723Z
URL:https://martinluther.ca/de/events/5-so-n-d-epiphanias-9-45-uhr-englisc
 he-andacht-11-00-uhr-deutscher-gottesdienst-pastorin-annika-klappert/
SUMMARY:5. SO. n. d. EPIPHANIAS – 9.45 Uhr Englische Andacht + 11.00 Uhr 
 DEUTSCHER Gottesdienst (Pastorin Annika Klappert)
DESCRIPTION:8. Februar 2026 | 5. So. n. d. Epiphanias – 9.45 Uhr Englisch
 e Andacht + 11.00 Uhr DEUTSCHER Gottesdienst (Pastorin Annika Klappert)\n\
 n&nbsp\;\n\nVon zu Hause aus: Hören Sie sich unsere 15-minütigen deutsch
 en Radioandachten an\, die jeden Sonntag um 9:30 Uhr live auf dem CHLO-Rad
 iosender AM 530 (einem mehrsprachigen Radiosender aus Brampton\, Ontario) 
 ausgestrahlt. Später als Podcast-Aufzeichnung auf unserer Radio-Andachte
 n-Webseite archiviert.\n\nAbonnieren Sie unsere E-Mail-Liste im Kirchenb
 üro office@martinluther.ca\nLernen Sie Pastor Annika Klappert kennen: Mo
 bile: (416) 567-2487 Email: pastor@martinluther.ca\n\nMartin Luther Evang
 elical Lutheran Church\n2379 Lake Shore Blvd West\, Toronto\, Ontario\, Ca
 nada M8V 1B7\nTel.: (416) 251-8293 office@martinluther.ca\n\nFolgen Sie u
 ns in den sozialen Medien:\nFacebook: https://www.facebook.com/martinluth
 erchurchtoronto\nInstagram: https://www.instagram.com/lutheransbythelake\
 n\nDie Martin-Luther-Kirche Toronto ist Mitglied der Evangelisch-Lutherisc
 hen Kirche in Kanada (ELCIC) und Partner der Evangelischen Kirche in Deuts
 chland (EKD).
END:VEVENT
BEGIN:VTIMEZONE
TZID:America/Toronto
X-LIC-LOCATION:America/Toronto
BEGIN:STANDARD
DTSTART:20251102T010000
TZOFFSETFROM:-0400
TZOFFSETTO:-0500
TZNAME:EST
END:STANDARD
END:VTIMEZONE
END:VCALENDAR