BEGIN:VCALENDAR
VERSION:2.0
PRODID:-//wp-events-plugin.com//7.2.3.1//EN
TZID:America/Toronto
X-WR-TIMEZONE:America/Toronto
BEGIN:VEVENT
UID:4139@martinluther.ca
DTSTART;TZID=America/Toronto;VALUE=DATE:20240214
DTEND;TZID=America/Toronto;VALUE=DATE:20240215
DTSTAMP:20240213T152430Z
URL:https://martinluther.ca/de/events/aschermittwoch-der-erste-tag-der-pas
 sionszeit/
SUMMARY:Aschermittwoch (der erste Tag der Passionszeit)
DESCRIPTION:14. Februar 2024 - Aschermittwoch (der erste Tag der Passionsze
 it)
END:VEVENT
BEGIN:VTIMEZONE
TZID:America/Toronto
X-LIC-LOCATION:America/Toronto
BEGIN:STANDARD
DTSTART:20231105T010000
TZOFFSETFROM:-0400
TZOFFSETTO:-0500
TZNAME:EST
END:STANDARD
END:VTIMEZONE
END:VCALENDAR