BEGIN:VCALENDAR
VERSION:2.0
PRODID:-//wp-events-plugin.com//7.2.3.1//EN
TZID:America/Toronto
X-WR-TIMEZONE:America/Toronto
BEGIN:VEVENT
UID:4421@martinluther.ca
DTSTART;TZID=America/Toronto;VALUE=DATE:20260218
DTEND;TZID=America/Toronto;VALUE=DATE:20260219
DTSTAMP:20251229T234749Z
URL:https://martinluther.ca/de/events/ashermittwoch/
SUMMARY:Ashermittwoch
DESCRIPTION:Mittwoch\, den 18. Februar 2026 | Ashermittwoch
END:VEVENT
BEGIN:VTIMEZONE
TZID:America/Toronto
X-LIC-LOCATION:America/Toronto
BEGIN:STANDARD
DTSTART:20251102T010000
TZOFFSETFROM:-0400
TZOFFSETTO:-0500
TZNAME:EST
END:STANDARD
END:VTIMEZONE
END:VCALENDAR