BEGIN:VCALENDAR
VERSION:2.0
PRODID:-//wp-events-plugin.com//7.2.3.1//EN
TZID:America/Toronto
X-WR-TIMEZONE:America/Toronto
BEGIN:VEVENT
UID:4104@martinluther.ca
DTSTART;TZID=America/Toronto;VALUE=DATE:20241225
DTEND;TZID=America/Toronto;VALUE=DATE:20241226
DTSTAMP:20231227T022845Z
URL:https://martinluther.ca/de/events/christfest-kein-gottesdienst-2/
SUMMARY:CHRISTFEST - Kein Gottesdienst
DESCRIPTION:Mittwoch\, 25. Dezember 2024 -  CHRISTFEST - Kein Gottesdienst
END:VEVENT
BEGIN:VTIMEZONE
TZID:America/Toronto
X-LIC-LOCATION:America/Toronto
BEGIN:STANDARD
DTSTART:20241103T010000
TZOFFSETFROM:-0400
TZOFFSETTO:-0500
TZNAME:EST
END:STANDARD
END:VTIMEZONE
END:VCALENDAR