BEGIN:VCALENDAR
VERSION:2.0
PRODID:-//wp-events-plugin.com//7.2.3.1//EN
TZID:America/Toronto
X-WR-TIMEZONE:America/Toronto
BEGIN:VEVENT
UID:4511@martinluther.ca
DTSTART;TZID=America/Toronto;VALUE=DATE:20261122
DTEND;TZID=America/Toronto;VALUE=DATE:20261123
DTSTAMP:20260206T210811Z
URL:https://martinluther.ca/de/events/christkoenigs-sonntag-in-norddeutsch
 land-heisst-er-ewigkeitssonntag-11-00-uhr-gottesdienst-tbd/
SUMMARY:CHRISTKöNIGS SONNTAG. In Norddeutschland heißt er „Ewigkeitsson
 ntag“ -11.00 Uhr Gottesdienst TBD
DESCRIPTION:November 22\, 2026 | Christkönigssonntag. In Norddeutschland h
 eißt er „Ewigkeitssonntag“ -11.00 Uhr Gottesdienst TBD\n\n&nbsp\;\n\n
 Von zu Hause aus: Hören Sie sich unsere 15-minütigen deutschen Radioanda
 chten an\, die jeden Sonntag um 9:30 Uhr live auf dem CHLO-Radiosender AM 
 530 (einem mehrsprachigen Radiosender aus Brampton\, Ontario) ausgestrahlt
 . Später als Podcast-Aufzeichnung auf unserer Radio-Andachten-Webseite 
 archiviert.\n\nAbonnieren Sie unsere E-Mail-Liste im Kirchenbüro office@
 martinluther.ca\nLernen Sie Pastor Annika Klappert kennen: Mobile: (416) 5
 67-2487 Email: pastor@martinluther.ca\n\nMartin Luther Evangelical Luther
 an Church\n2379 Lake Shore Blvd West\, Toronto\, Ontario\, Canada M8V 1B7\
 nTel.: (416) 251-8293 office@martinluther.ca\n\nFolgen Sie uns in den soz
 ialen Medien:\nFacebook: https://www.facebook.com/martinlutherchurchtoron
 to\nInstagram: https://www.instagram.com/lutheransbythelake\n\nDie Martin
 -Luther-Kirche Toronto ist Mitglied der Evangelisch-Lutherischen Kirche in
  Kanada (ELCIC) und Partner der Evangelischen Kirche in Deutschland (EKD).
END:VEVENT
BEGIN:VTIMEZONE
TZID:America/Toronto
X-LIC-LOCATION:America/Toronto
BEGIN:STANDARD
DTSTART:20261101T010000
TZOFFSETFROM:-0400
TZOFFSETTO:-0500
TZNAME:EST
END:STANDARD
END:VTIMEZONE
END:VCALENDAR