BEGIN:VCALENDAR
VERSION:2.0
PRODID:-//wp-events-plugin.com//7.2.3.1//EN
TZID:America/Toronto
X-WR-TIMEZONE:America/Toronto
BEGIN:VEVENT
UID:4495@martinluther.ca
DTSTART;TZID=America/Toronto;VALUE=DATE:20261004
DTEND;TZID=America/Toronto;VALUE=DATE:20261005
DTSTAMP:20260206T210403Z
URL:https://martinluther.ca/de/events/deutsches-erntedankfest-945-uhr-engl
 ische-andacht-1100-uhr-deutscher-gottesdienst/
SUMMARY:DEUTSCHES ERNTEDANKFEST -9:45 Uhr englische Andacht + 11:00 Uhr deu
 tscher Gottesdienst
DESCRIPTION:4\,. Oktober 2026 | Deutsches Erntedankfest -9:45 Uhr englische
  Andacht + 11:00 Uhr deutscher Gottesdienst\n\n&nbsp\;\n\nVon zu Hause aus
 : Hören Sie sich unsere 15-minütigen deutschen Radioandachten an\, die j
 eden Sonntag um 9:30 Uhr live auf dem CHLO-Radiosender AM 530 (einem mehrs
 prachigen Radiosender aus Brampton\, Ontario) ausgestrahlt. Später als Po
 dcast-Aufzeichnung auf unserer Radio-Andachten-Webseite archiviert.\n\nA
 bonnieren Sie unsere E-Mail-Liste im Kirchenbüro office@martinluther.ca\
 nLernen Sie Pastor Annika Klappert kennen: Mobile: (416) 567-2487 Email: 
 pastor@martinluther.ca\n\nMartin Luther Evangelical Lutheran Church\n2379 
 Lake Shore Blvd West\, Toronto\, Ontario\, Canada M8V 1B7\nTel.: (416) 251
 -8293 office@martinluther.ca\n\nFolgen Sie uns in den sozialen Medien:\nF
 acebook: https://www.facebook.com/martinlutherchurchtoronto\nInstagram: 
 https://www.instagram.com/lutheransbythelake\n\nDie Martin-Luther-Kirche T
 oronto ist Mitglied der Evangelisch-Lutherischen Kirche in Kanada (ELCIC) 
 und Partner der Evangelischen Kirche in Deutschland (EKD).
END:VEVENT
BEGIN:VTIMEZONE
TZID:America/Toronto
X-LIC-LOCATION:America/Toronto
BEGIN:DAYLIGHT
DTSTART:20260308T030000
TZOFFSETFROM:-0500
TZOFFSETTO:-0400
TZNAME:EDT
END:DAYLIGHT
END:VTIMEZONE
END:VCALENDAR