BEGIN:VCALENDAR
VERSION:2.0
PRODID:-//wp-events-plugin.com//7.2.3.1//EN
TZID:America/Toronto
X-WR-TIMEZONE:America/Toronto
BEGIN:VEVENT
UID:4151@martinluther.ca
DTSTART;TZID=America/Toronto;VALUE=DATE:20240430
DTEND;TZID=America/Toronto;VALUE=DATE:20240501
DTSTAMP:20240420T173420Z
URL:https://martinluther.ca/de/events/dienstag-1800-uhr-chorprobe-unter-de
 r-leitung-von-linda-marcinkus-zur-vorbereitung-auf-den-pfingstsonntag-am-1
 9-mai-2/
SUMMARY:[Dienstag] 18:00 Uhr Chorprobe unter der Leitung von Linda Marcinku
 s zur Vorbereitung auf den Pfingstsonntag am 19. Mai
DESCRIPTION:Chorprobe um 18 Uhr unter der Leitung von Linda Marcinkus zur V
 orbereitung auf den Pfingstsonntag am 19. Mai 2024\n\nDienstag\, 23. April
  2024\nDienstag\, 30. April 2024\nDienstag\, 7. Mai 2024\nDienstag\, 14. M
 ai 2024\n\nWir singen für unsere Gemeinde derzeit an besonderen Sonntagen
  (nicht jeden Sonntag)\, … Thanksgiving\, Allerheiligen\, 1. Advent\, He
 iligabend\, Karfreitag\, Ostern und Pfingsten.\n\nWöchentlich ab den komm
 enden vier Wochen jeden Dienstag um 18:00 Uhr.\n\nWir sind ein vierstimmig
 er Chor\, der in Harmonie singt (Sopran\, Alt\, Tenor\, Bass) und am Klavi
 er von Linda Marcinkus\, unserer Organistin und Chorleiterin\, begleitet w
 ird.\n\nWir hoffen\, dass unser Chor unsere Gemeinde noch viele Jahre lang
  mit einem reichen Repertoire an Liedern erfreuen kann. Wir laden neue Cho
 rmitglieder ein\, unserem Chor beizutreten und uns dabei zu helfen\, unser
 e reiche Gesangstradition fortzusetzen. Kontakt über office@martinluther
 .ca\n\n
END:VEVENT
BEGIN:VTIMEZONE
TZID:America/Toronto
X-LIC-LOCATION:America/Toronto
BEGIN:DAYLIGHT
DTSTART:20240310T030000
TZOFFSETFROM:-0500
TZOFFSETTO:-0400
TZNAME:EDT
END:DAYLIGHT
END:VTIMEZONE
END:VCALENDAR