BEGIN:VCALENDAR
VERSION:2.0
PRODID:-//wp-events-plugin.com//7.2.3.1//EN
TZID:America/Toronto
X-WR-TIMEZONE:America/Toronto
BEGIN:VEVENT
UID:4115@martinluther.ca
DTSTART;TZID=America/Toronto;VALUE=DATE:20240514
DTEND;TZID=America/Toronto;VALUE=DATE:20240515
DTSTAMP:20240513T174318Z
URL:https://martinluther.ca/de/events/dienstag-900-uhr-bibelstunde-ueber-z
 oom-mit-3-kirchengemeinden-in-nordamerika/
SUMMARY:[Dienstag] 9:00 Uhr Bibelstunde über Zoom mit 3 Kirchengemeinden i
 n Nordamerika
DESCRIPTION:Dienstag\, 14. Mai 2024\, um 19.00 Uhr treffen wir uns zum Bibe
 lgespräch mit unseren Freunden in den Gemeinden der Martin Luther Church 
 Ottawa und der German Lutheran Church in Washington\, D.C.\, um über Bibe
 ltexte anhand der „sieben Schritte“ nachzudenken „Bible Sharing“-M
 ethode\, bei der in zwei Gruppen von Englisch- und Deutschsprechern gemein
 sam geübt wird.\n\nUnser Bibelgespräch ist eine Diskussionsgruppe zur Wo
 chenmitte\, die sich normalerweise an einem Dienstagabend etwa einmal im M
 onat um 19:00 Uhr auf Zoom mit bestimmten Texten der Bibel befasst\, begin
 nend im März und endend im November 2024.\n\nUm teilzunehmen\, sehen Sie 
 sich unseren Website-Kalender an Für Termine kontaktieren Sie office@mart
 inluther.ca für die Zoom-Anmeldeinformationen. Wir treffen uns ausschlie
 ßlich über Zoom\, wo Sie mit Ihrem Computer/Smartphone/Tablet teilnehmen
  oder mit Ihrem Mobiltelefon oder Festnetztelefon anrufen können.\n\nLern
 en Sie gemeinsam mit Pastorin Judith Kierschke (Martin Luther Church\, Ott
 awa)\, Pastorin Annika Klappert (Martin Luther Church\, Toronto) und Past
 or Dr. Martin Eberle (Deutsche Lutherische Kirche\, Washington\, DC) etwas
  über den historischen und theologischen Hintergrund eines Bibeltextes un
 d Finden Sie neue Wege\, sie auf unsere gelebte Erfahrung anzuwenden!\n\nA
 lle drei Leiter sprechen Englisch und Deutsch\, sodass wir die Möglichkei
 t haben\, uns je nach Sprachpräferenzen in Untergruppen aufzuteilen.\n\nB
 isher geplante Termine für das Bibelgespräch 2024:\nDienstag\, 12. März
  2024\nDienstag\, 16. April 2024\nDienstag\, 14. Mai 2024\nDienstag\, 11. 
 Juni 2024\num 19.00 Uhr\n\nAbonnieren Sie unsere E-Mail-Liste für wöchen
 tliche Updates.\nWeitere Neuigkeiten finden Sie im Kirchennachrichten-Blog
 :  News-Blog.\n\nMartin Luther Evangelisch-Lutherische Kirche\n2379 Lake 
 Shore Blvd West\, Toronto\, Ontario\, Kanada M8V 1B7\nTel.: (416) 251-8293
  office@martinluther.ca\n\nPastorin Annika Klappert Mobil: (416) 567-2487 
 pastor@martinluther.ca\n\nFolgen Sie uns in den sozialen Medien:\nFacebook
 : https://www.facebook.com/martinlutherchurchtoronto\nInstagram: https://w
 ww.instagram.com/lutheransbythelake\n\nDie Martin Luther Church Toronto is
 t Mitglied der Evangelisch-Lutherischen Kirche in Kanada (ELCIC) und Partn
 er der Evangelischen Kirche in Deutschland (EKD).
END:VEVENT
BEGIN:VTIMEZONE
TZID:America/Toronto
X-LIC-LOCATION:America/Toronto
BEGIN:DAYLIGHT
DTSTART:20240310T030000
TZOFFSETFROM:-0500
TZOFFSETTO:-0400
TZNAME:EDT
END:DAYLIGHT
END:VTIMEZONE
END:VCALENDAR