BEGIN:VCALENDAR
VERSION:2.0
PRODID:-//wp-events-plugin.com//7.2.3.1//EN
TZID:America/Toronto
X-WR-TIMEZONE:America/Toronto
BEGIN:VEVENT
UID:4144@martinluther.ca
DTSTART;TZID=America/Toronto;VALUE=DATE:20240329
DTEND;TZID=America/Toronto;VALUE=DATE:20240330
DTSTAMP:20240328T174605Z
URL:https://martinluther.ca/de/events/good-friday-1030-uhr-englischer-gott
 esdienst-in-der-mimico-baptist-church-80-hillside-ave-um-mit-unseren-oekum
 enischen-partnerkirchen-am-lakeshore-zusammenzukommen/
SUMMARY:Good Friday - 10:30 Uhr Englischer Gottesdienst in der Mimico Bapti
 st Church\, 80 Hillside Ave\, um mit unseren ökumenischen Partnerkirchen 
 am "Lakeshore" zusammenzukommen
DESCRIPTION:Good Friday March 29\, 2024 - 10:30 Uhr Englischer Gottesdienst
  in der Mimico Baptist Church\, 80 Hillside Ave\, um mit unseren ökumenis
 chen Partnerkirchen am "Lakeshore" zusammenzukommen. (https://mimicobaptis
 t.ca/)\n\nMar 29\, 2024 Good Friday\n10:30 am English Service at Mimico Ba
 ptist Church\, 80 Hillside Ave\, to gather with our ecumenical partner chu
 rches on the Lakeshore: Christ Church St. James Anglican Church\, Mimico P
 resbyterian Church\, Wesley Mimico United Church and the host Mimico Bapti
 st Church\n\nThis service will bring together a number of Good Friday trad
 itions. Our journey will follow the text of the passion narrative from the
  Gospel According to John and will take us to seven stations. As each stat
 ion comes to us\, we will have a reading of the text\, a visual image\, a 
 reflection and an extinguishing of a candle followed by a prayer. You are 
 invited to enter into the experience of Christ and to receive the signific
 ance. - Pastor Jim Sanderson\, Mimico Baptist Church\, https://mimicobapti
 st.ca/good-friday-2024/\n\nYou can download the order of service.\n\n-----
 ----------------------------------\n\n11:00 Uhr Deutscher Gottesdienst mit
  Abendmahl und unserem Kirchenchor in der Martin-Luther-Kirche Toronto\n\n
 Evangelisch-lutherische Martin Luther Kirche\n2379 Lake Shore Blvd West\, 
 Toronto\, Ontario\, Canada M8V 1B7\nTel.: (416) 251-8293 office@martinluth
 er.ca\n\nPastorin Annika Klappert\n\nFolgen Sie uns in den sozialen Medien
 :\nFacebook: https://www.facebook.com/martinlutherchurchtoronto\nInstagram
 : https://www.instagram.com/lutheransbythelake\n\nDie Martin-Luther-Kirche
  Toronto ist Mitglied der Evangelisch-Lutherischen Kirche in Kanada (ELCIC
 ) und Partner der Evangelischen Kirche in Deutschland (EKD).
END:VEVENT
BEGIN:VTIMEZONE
TZID:America/Toronto
X-LIC-LOCATION:America/Toronto
BEGIN:DAYLIGHT
DTSTART:20240310T030000
TZOFFSETFROM:-0500
TZOFFSETTO:-0400
TZNAME:EDT
END:DAYLIGHT
END:VTIMEZONE
END:VCALENDAR