BEGIN:VCALENDAR
VERSION:2.0
PRODID:-//wp-events-plugin.com//7.2.3.1//EN
TZID:America/Toronto
X-WR-TIMEZONE:America/Toronto
BEGIN:VEVENT
UID:4522@martinluther.ca
DTSTART;TZID=America/Toronto;VALUE=DATE:20261224
DTEND;TZID=America/Toronto;VALUE=DATE:20261225
DTSTAMP:20251230T181533Z
URL:https://martinluther.ca/de/events/heiligabend-17-00-uhr-deutscher-gott
 esdienst-18-30-uhr-englischer-gottesdienst-2/
SUMMARY:HEILIGABEND -17.00 Uhr deutscher Gottesdienst + 18.30 Uhr englische
 r Gottesdienst
DESCRIPTION:Donnerstag\, den 24. Dezember 2026 | Heiligabend -17.00 Uhr de
 ustscher Gottesdeinst + 18.30 Uhr englischer Gottesdienst\n\n&nbsp\;\n\nAb
 onnieren Sie unsere E-Mail-Liste im Kirchenbüro office@martinluther.ca\n
 Lernen Sie Pastor Annika Klappert kennen: Mobile: (416) 567-2487 Email: p
 astor@martinluther.ca\n\nMartin Luther Evangelical Lutheran Church\n2379 L
 ake Shore Blvd West\, Toronto\, Ontario\, Canada M8V 1B7\nTel.: (416) 251-
 8293 office@martinluther.ca\n\nFolgen Sie uns in den sozialen Medien:\nFa
 cebook: https://www.facebook.com/martinlutherchurchtoronto\nInstagram: h
 ttps://www.instagram.com/lutheransbythelake\n\nDie Martin-Luther-Kirche To
 ronto ist Mitglied der Evangelisch-Lutherischen Kirche in Kanada (ELCIC) u
 nd Partner der Evangelischen Kirche in Deutschland (EKD).\n\n&nbsp\;
END:VEVENT
BEGIN:VTIMEZONE
TZID:America/Toronto
X-LIC-LOCATION:America/Toronto
BEGIN:STANDARD
DTSTART:20261101T010000
TZOFFSETFROM:-0400
TZOFFSETTO:-0500
TZNAME:EST
END:STANDARD
END:VTIMEZONE
END:VCALENDAR