BEGIN:VCALENDAR
VERSION:2.0
PRODID:-//wp-events-plugin.com//7.2.3.1//EN
TZID:America/Toronto
X-WR-TIMEZONE:America/Toronto
BEGIN:VEVENT
UID:4497@martinluther.ca
DTSTART;TZID=America/Toronto;VALUE=DATE:20261011
DTEND;TZID=America/Toronto;VALUE=DATE:20261012
DTSTAMP:20260206T210449Z
URL:https://martinluther.ca/de/events/kanadischer-erntedankfest-11-00-uhr-
 zweisprachiger-deutsch-englischer-gottesdienst/
SUMMARY:KANADISCHER ERNTEDANKFEST -11.00 Uhr Zweisprachiger deutsch-englisc
 her Gottesdienst
DESCRIPTION:11. Oktober 2026 | Kanadischer Erntedankfest -11.00 Uhr Zweispr
 achiger deutsch-englischer Gottesdienst\n\nVon zu Hause aus: Hören Sie si
 ch unsere 15-minütigen deutschen Radioandachten an\, die jeden Sonntag um
  9:30 Uhr live auf dem CHLO-Radiosender AM 530 (einem mehrsprachigen Radio
 sender aus Brampton\, Ontario) ausgestrahlt. Später als Podcast-Aufzeichn
 ung auf unserer Radio-Andachten-Webseite archiviert.\n\nAbonnieren Sie u
 nsere E-Mail-Liste im Kirchenbüro office@martinluther.ca\nLernen Sie Pas
 tor Annika Klappert kennen: Mobile: (416) 567-2487 Email: pastor@martinlu
 ther.ca\n\nMartin Luther Evangelical Lutheran Church\n2379 Lake Shore Blvd
  West\, Toronto\, Ontario\, Canada M8V 1B7\nTel.: (416) 251-8293 office@m
 artinluther.ca\n\nFolgen Sie uns in den sozialen Medien:\nFacebook: https
 ://www.facebook.com/martinlutherchurchtoronto\nInstagram: https://www.ins
 tagram.com/lutheransbythelake\n\nDie Martin-Luther-Kirche Toronto ist Mitg
 lied der Evangelisch-Lutherischen Kirche in Kanada (ELCIC) und Partner der
  Evangelischen Kirche in Deutschland (EKD).
END:VEVENT
BEGIN:VTIMEZONE
TZID:America/Toronto
X-LIC-LOCATION:America/Toronto
BEGIN:DAYLIGHT
DTSTART:20260308T030000
TZOFFSETFROM:-0500
TZOFFSETTO:-0400
TZNAME:EDT
END:DAYLIGHT
END:VTIMEZONE
END:VCALENDAR