BEGIN:VCALENDAR
VERSION:2.0
PRODID:-//wp-events-plugin.com//7.2.3.1//EN
TZID:America/Toronto
X-WR-TIMEZONE:America/Toronto
BEGIN:VEVENT
UID:4419@martinluther.ca
DTSTART;TZID=America/Toronto;VALUE=DATE:20260215
DTEND;TZID=America/Toronto;VALUE=DATE:20260216
DTSTAMP:20260213T193340Z
URL:https://martinluther.ca/de/events/letzten-so-n-d-epiphanias-verklaerun
 g-des-herrn-11-00-uhr-zweisprachiger-deutsch-englischer-gottesdienst-konfi
 rmation-von-katharina-und-thorben-tiefenbach-mit-pastorin-annika-klappert/
SUMMARY:Letzten So. n. d. Epiphanias (Verklärung des Herrn) -11.00 Uhr Zwe
 isprachiger deutsch-englischer Gottesdienst + Konfirmation von Katharina u
 nd Thorben Tiefenbach mit Pastorin Annika Klappert.
DESCRIPTION:15. Februar 2025 | Letzten So. n. d. Epiphanias (Verklärung de
 s Herrn) -11.00 Uhr Zweisprachiger deutsch-englischer Gottesdienst\n\n+ Ko
 nfirmation von Katharina und Thorben Tiefenbach mit Pastorin Annika Klappe
 rt.\n\nWeitere Informationen zur Konfirmation finden Sie auf unserer Konfi
 rmation -Webseite.\n\nhttps://martinluther.ca/de/2025/11/unsere-konfirmati
 onen-ueber-die-jahre-1956-2025-veroeffentlicht-in-november-2025/\n\nVon zu
  Hause aus: Hören Sie sich unsere 15-minütigen deutschen Radioandachten 
 an\, die jeden Sonntag um 9:30 Uhr live auf dem CHLO-Radiosender AM 530 (e
 inem mehrsprachigen Radiosender aus Brampton\, Ontario) ausgestrahlt. Spä
 ter als Podcast-Aufzeichnung auf unserer Radio-Andachten-Webseite archiv
 iert.\n\nAbonnieren Sie unsere E-Mail-Liste im Kirchenbüro office@martin
 luther.ca\nLernen Sie Pastor Annika Klappert kennen: Mobile: (416) 567-248
 7 Email: pastor@martinluther.ca\n\nMartin Luther Evangelical Lutheran Chu
 rch\n2379 Lake Shore Blvd West\, Toronto\, Ontario\, Canada M8V 1B7\nTel.:
  (416) 251-8293 office@martinluther.ca\n\nFolgen Sie uns in den sozialen 
 Medien:\nFacebook: https://www.facebook.com/martinlutherchurchtoronto\nIn
 stagram: https://www.instagram.com/lutheransbythelake\n\nDie Martin-Luthe
 r-Kirche Toronto ist Mitglied der Evangelisch-Lutherischen Kirche in Kanad
 a (ELCIC) und Partner der Evangelischen Kirche in Deutschland (EKD).
END:VEVENT
BEGIN:VTIMEZONE
TZID:America/Toronto
X-LIC-LOCATION:America/Toronto
BEGIN:STANDARD
DTSTART:20251102T010000
TZOFFSETFROM:-0400
TZOFFSETTO:-0500
TZNAME:EST
END:STANDARD
END:VTIMEZONE
END:VCALENDAR