BEGIN:VCALENDAR
VERSION:2.0
PRODID:-//wp-events-plugin.com//7.2.3.1//EN
TZID:America/Toronto
X-WR-TIMEZONE:America/Toronto
BEGIN:VEVENT
UID:4147@martinluther.ca
DTSTART;TZID=America/Toronto;VALUE=DATE:20240424
DTEND;TZID=America/Toronto;VALUE=DATE:20240425
DTSTAMP:20240420T161131Z
URL:https://martinluther.ca/de/events/mi-19-00-uhr-dinner-church-mit-gastr
 ednerin-katja-brittain-zum-thema-akte-der-guete-und-dankbarkeit/
SUMMARY:[Mi] 19.00 Uhr Dinner Church mit Gastrednerin Katja Brittain zum Th
 ema \,\,Akte der Güte und Dankbarkeit”
DESCRIPTION:Mi 24. Apr 2024\, 19 Uhr Dinner Church mit Gastrednerin Katja B
 rittain zum Thema \,\,Akte der Güte und Dankbarkeit”\n\n\n\nBei der Din
 ner Church handelt es sich um ein einfaches Potluck-Essen mit einer kurzen
  Andacht\, das auf den Gemeinschaftsmahlzeiten der frühen Christen basier
 t. Findet einmal im Monat – unter der Woche – um 19:00 Uhr als Outreac
 h-Programm statt. Für den Auf- und Abbau von Tischen und Stühlen\, das A
 ufstellen von Gedecken auf Tischen und das Mitbringen von Essen sind ehren
 amtliche Helfer herzlich willkommen.\n\nDie diesjährigen Dinner Church by
  the Lake 2024 sind bisher geplant:\n\nMittwoch\, 31. Januar 2024\, 19 Uhr
 \nGründonnerstag\, 28. März 2024\, um 19 Uhr mit einem Auftritt des Kirc
 henchors\nMittwoch\, 24. April 2024\, 19 Uhr mit Gastrednerin Katja Britta
 in zum Thema \,\,Akte der Güte und Dankbarkeit” \n\nManchmal haben wir 
 Gastredner aus der Community\, sofern verfügbar. Ansonsten halten unsere 
 Pastorin oder Laienprediger eine kurze Andacht. Für Vorschläge steht Ihn
 en das Planungsteam der Dinner Church (dinnerchurch@martinluther.ca) zur V
 erfügung.\n\nEvangelisch-lutherische Martin Luther Kirche\n2379 Lake Shor
 e Blvd West\, Toronto\, Ontario\, Canada M8V 1B7\nTel.: (416) 251-8293 off
 ice@martinluther.ca\n\nPastorin Annika Klappert\n\nFolgen Sie uns in den s
 ozialen Medien:\nFacebook: https://www.facebook.com/martinlutherchurchtoro
 nto\nInstagram: https://www.instagram.com/lutheransbythelake\n\nDie Martin
 -Luther-Kirche Toronto ist Mitglied der Evangelisch-Lutherischen Kirche in
  Kanada (ELCIC) und Partner der Evangelischen Kirche in Deutschland (EKD).
END:VEVENT
BEGIN:VTIMEZONE
TZID:America/Toronto
X-LIC-LOCATION:America/Toronto
BEGIN:DAYLIGHT
DTSTART:20240310T030000
TZOFFSETFROM:-0500
TZOFFSETTO:-0400
TZNAME:EDT
END:DAYLIGHT
END:VTIMEZONE
END:VCALENDAR