BEGIN:VCALENDAR
VERSION:2.0
PRODID:-//wp-events-plugin.com//7.2.3.1//EN
TZID:America/Toronto
X-WR-TIMEZONE:America/Toronto
BEGIN:VEVENT
UID:4146@martinluther.ca
DTSTART;TZID=America/Toronto;VALUE=DATE:20240331
DTEND;TZID=America/Toronto;VALUE=DATE:20240401
DTSTAMP:20240328T194206Z
URL:https://martinluther.ca/de/events/oster-sonntag-1000-uhr-zweisprachige
 r-deutsch-englischer-familiengottesdienst-mit-kirchenchor/
SUMMARY:Oster Sonntag – 10:00 Uhr zweisprachiger deutsch-englischer FAMIL
 IENgottesdienst mit Kirchenchor
DESCRIPTION:[caption id="attachment_41094" align="alignright" width="300"] 
 Unsere Organistin und Chorleiterin Linda Marcinkus[/caption]\n\nOstern –
  10:00 Uhr zeisprachiger deutsch-englischer FAMILIENgottesdienst mit Kirch
 enchor\n\nUnser Kirchenchor singt:\n\n&nbsp\;\n\nMartin Luther Evangelical
  Lutheran Church\n2379 Lake Shore Blvd West\, Toronto\, Ontario\, Canada M
 8V 1B7\nTel.: (416) 251-8293 office@martinluther.ca\n\nPastorin Annika Kla
 ppert\n\nFolgen Sie uns in den sozialen Medien:\nFacebook: https://www.fac
 ebook.com/martinlutherchurchtoronto\nInstagram: https://www.instagram.com/
 lutheransbythelake\n\nDie Martin-Luther-Kirche Toronto ist Mitglied der Ev
 angelisch-Lutherischen Kirche in Kanada (ELCIC) und Partner der Evangelisc
 hen Kirche in Deutschland (EKD).\n\n&nbsp\;
END:VEVENT
BEGIN:VTIMEZONE
TZID:America/Toronto
X-LIC-LOCATION:America/Toronto
BEGIN:DAYLIGHT
DTSTART:20240310T030000
TZOFFSETFROM:-0500
TZOFFSETTO:-0400
TZNAME:EDT
END:DAYLIGHT
END:VTIMEZONE
END:VCALENDAR