BEGIN:VCALENDAR
VERSION:2.0
PRODID:-//wp-events-plugin.com//7.2.3.1//EN
TZID:America/Toronto
X-WR-TIMEZONE:America/Toronto
BEGIN:VEVENT
UID:4570@martinluther.ca
DTSTART;TZID=America/Toronto:20260405T110000
DTEND;TZID=America/Toronto:20260405T123000
DTSTAMP:20260404T102117Z
URL:https://martinluther.ca/de/events/ostern-ostergottesdienst-bei-sonnena
 ufgang-um-700-uhr-im-marie-curtis-park-mit-der-alderwood-united-church-ans
 chliessend-osterfruehstueck-um-830-uhr-im-untergeschoss-der-kirche-1100-uh
 /
SUMMARY:OSTERN – Ostergottesdienst bei Sonnenaufgang um 7:00 Uhr im Marie
  Curtis Park mit der Alderwood United Church\, anschließend Osterfrühst
 ück um 8:30 Uhr im Untergeschoss der Kirche + 11:00 Uhr zweisprachiger de
 utsch-englischer Ostergottesdienst mit Kirchenchor
DESCRIPTION:5. April 2026 - OSTERN\n\nAufgrund von Bauarbeiten im Humber Ba
 y Park verlegen wir unseren Ostersonnenaufgangsgottesdienst vorübergehend
  an den Ort\, an dem Alderwood United regelmäßig ihren Gottesdienst abh
 ält. Kommt schon früh am Strand zusammen\, versammelt euch um das Lagerf
 euer und beobachtet den Sonnenaufgang um 6:50 Uhr\, bevor der Gottesdienst
  beginnt.\n\nWendet euch an das Büro unter 416-251-8293 oder office@marti
 nluther.ca wenn ihr eine Mitfahrgelegenheit benötigt oder eine anbieten k
 önnt!\n\n7:00 Uhr Sonnenaufgangsgottesdienst im Marie-Curtis-Park mit der
  Alderwood United Church von Pastor Lawrence Nyarko\, Pastorin-in-Ausbildu
 ng Cheri Butt und Pastorin Annika Klappert geleitet\n\nDas Frühstück wir
 d weiterhin nach dem Sonnenaufgangsgottesdienst um 8:30 Uhr im Keller der 
 Martin-Luther-Kirche serviert\, und wir heißen unsere Freunde von Alderwo
 od United dort herzlich willkommen! Wenn Sie etwas zum Osterfrühstück mi
 tbringen möchten\, wenden Sie sich bitte an president@martinluther.ca.\n\
 n11:00 Uhr Ostersonntag Deutsch-Englischer Gottesdienst von Pastorin Annik
 a Klappert geleitet\, mit unserem Kirchenchor\n\n\n\n\n\n\n\nLernen Sie Pa
 storin Annika Klappert kennen: Mobile: (416) 567-2487 Email: pastor@martin
 luther.ca\n\nVon zu Hause aus: Hören Sie sich unsere 15-minütigen deutsc
 hen Radioandachten an\, die jeden Sonntag um 9:30 Uhr live auf dem CHLO-Ra
 diosender AM 530 (einem mehrsprachigen Radiosender aus Brampton\, Ontario)
  ausgestrahlt. Später als Podcast-Aufzeichnung auf unserer Radio-Andachte
 n-Webseite archiviert.\n\nAbonnieren Sie unsere E-Mail-Liste im Kirchenbü
 ro office@martinluther.ca\n\nMartin Luther Evangelical Lutheran Church\n23
 79 Lake Shore Blvd West\, Toronto\, Ontario\, Canada M8V 1B7\nTel.: (416) 
 251-8293 office@martinluther.ca\n\nFolgen Sie uns in den sozialen Medien:\
 nFacebook: https://www.facebook.com/martinlutherchurchtoronto\nInstagram: 
 https://www.instagram.com/lutheransbythelake\n\nDie Martin-Luther-Kirche T
 oronto ist Mitglied der Evangelisch-Lutherischen Kirche in Kanada (ELCIC) 
 und Partner der Evangelischen Kirche in Deutschland (EKD).
END:VEVENT
BEGIN:VTIMEZONE
TZID:America/Toronto
X-LIC-LOCATION:America/Toronto
BEGIN:DAYLIGHT
DTSTART:20260308T030000
TZOFFSETFROM:-0500
TZOFFSETTO:-0400
TZNAME:EDT
END:DAYLIGHT
END:VTIMEZONE
END:VCALENDAR