BEGIN:VCALENDAR
VERSION:2.0
PRODID:-//wp-events-plugin.com//7.2.3.1//EN
TZID:America/Toronto
X-WR-TIMEZONE:America/Toronto
BEGIN:VEVENT
UID:4435@martinluther.ca
DTSTART;TZID=America/Toronto;VALUE=DATE:20260329
DTEND;TZID=America/Toronto;VALUE=DATE:20260330
DTSTAMP:20260320T160258Z
URL:https://martinluther.ca/de/events/palmsonntag-1100-uhr-zweisprachiger-
 deutsch-englischer-gottesdienst-mit-abendmahl-kirchenchor-und-einsetzung-d
 es-kirchenvorstands/
SUMMARY:PALMSONNTAG - 11:00 Uhr Zweisprachiger deutsch-englischer Gottesdie
 nst mit Abendmahl\, Kirchenchor\, und EINSETZUNG DES KIRCHENVORSTANDS
DESCRIPTION:29. März 2026 | PALMSONNTAG - 11:00 Uhr Zweisprachiger deutsch
 -englischer Gottesdienst mit Heiligen Abendmahl\, Kirchenchor\, und EINSET
 ZUNG DES KIRCHENVORSTANDS  (Pastorin Annika Klappert)\n\nLernen Sie Pasto
 rin Annika Klappert kennen: Mobile: (416) 567-2487 Email: pastor@martinlut
 her.ca\n\nVon zu Hause aus: Hören Sie sich unsere 15-minütigen deutschen
  Radioandachten an\, die jeden Sonntag um 9:30 Uhr live auf dem CHLO-Radio
 sender AM 530 (einem mehrsprachigen Radiosender aus Brampton\, Ontario) au
 sgestrahlt. Später als Podcast-Aufzeichnung auf unserer Radio-Andachten-
 Webseite archiviert.\n\nAbonnieren Sie unsere E-Mail-Liste im Kirchenbür
 o office@martinluther.ca\nMartin Luther Evangelical Lutheran Church\n2379
  Lake Shore Blvd West\, Toronto\, Ontario\, Canada M8V 1B7\nTel.: (416) 25
 1-8293 office@martinluther.ca\n\nFolgen Sie uns in den sozialen Medien:\n
 Facebook: https://www.facebook.com/martinlutherchurchtoronto\nInstagram:
  https://www.instagram.com/lutheransbythelake\n\nDie Martin-Luther-Kirche
  Toronto ist Mitglied der Evangelisch-Lutherischen Kirche in Kanada (ELCIC
 ) und Partner der Evangelischen Kirche in Deutschland (EKD).
END:VEVENT
BEGIN:VTIMEZONE
TZID:America/Toronto
X-LIC-LOCATION:America/Toronto
BEGIN:DAYLIGHT
DTSTART:20260308T030000
TZOFFSETFROM:-0500
TZOFFSETTO:-0400
TZNAME:EDT
END:DAYLIGHT
END:VTIMEZONE
END:VCALENDAR