BEGIN:VCALENDAR
VERSION:2.0
PRODID:-//wp-events-plugin.com//7.2.3.1//EN
TZID:America/Toronto
X-WR-TIMEZONE:America/Toronto
BEGIN:VEVENT
UID:4528@martinluther.ca
DTSTART;TZID=America/Toronto;VALUE=DATE:20260116
DTEND;TZID=America/Toronto;VALUE=DATE:20260127
DTSTAMP:20260112T200010Z
URL:https://martinluther.ca/de/events/pastorin-annika-klappert-ist-vom-16-
 bis-26-januar-2026-abwesend/
SUMMARY:Pastorin Annika Klappert ist vom 16. bis 26. Januar 2026 abwesend.
DESCRIPTION:Pastorin Annika Klappert ist vom 16. bis 26. Januar 2026 abwese
 nd.\n\nFür seelsorgerische Betreuung während dieser Zeit wenden Sie sich
  bitte an:\n16.–22. Januar 2026: Pastorin Katharina Moeller (Tel.: 416-9
 70-2631)\n23.–26. Januar 2026: Pastorin Rasma Caune (Tel.: 647-382-5093)
END:VEVENT
BEGIN:VTIMEZONE
TZID:America/Toronto
X-LIC-LOCATION:America/Toronto
BEGIN:STANDARD
DTSTART:20251102T010000
TZOFFSETFROM:-0400
TZOFFSETTO:-0500
TZNAME:EST
END:STANDARD
END:VTIMEZONE
END:VCALENDAR