BEGIN:VCALENDAR
VERSION:2.0
PRODID:-//wp-events-plugin.com//7.2.3.1//EN
TZID:America/Toronto
X-WR-TIMEZONE:America/Toronto
BEGIN:VEVENT
UID:4503@martinluther.ca
DTSTART;TZID=America/Toronto;VALUE=DATE:20261031
DTEND;TZID=America/Toronto;VALUE=DATE:20261101
DTSTAMP:20260116T192943Z
URL:https://martinluther.ca/de/events/reformationstag-3/
SUMMARY:Reformationstag
DESCRIPTION:Samstag\, den 31. Oktober 2026 | Reformationstag\n\nDer Reforma
 tionstag\, das Reformationsfest oder der Gedenktag der Reformation wird vo
 n evangelischen Christen in Deutschland und Österreich am 31. Oktober im 
 Gedenken an den Beginn der Reformation der Kirche durch Martin Luther im J
 ahr 1517 gefeiert.\n\nhttps://de.wikipedia.org/wiki/Reformationstag
END:VEVENT
BEGIN:VTIMEZONE
TZID:America/Toronto
X-LIC-LOCATION:America/Toronto
BEGIN:DAYLIGHT
DTSTART:20260308T030000
TZOFFSETFROM:-0500
TZOFFSETTO:-0400
TZNAME:EDT
END:DAYLIGHT
END:VTIMEZONE
END:VCALENDAR