BEGIN:VCALENDAR
VERSION:2.0
PRODID:-//wp-events-plugin.com//7.2.3.1//EN
TZID:America/Toronto
X-WR-TIMEZONE:America/Toronto
BEGIN:VEVENT
UID:4117@martinluther.ca
DTSTART;TZID=America/Toronto;VALUE=DATE:20240301
DTEND;TZID=America/Toronto;VALUE=DATE:20240302
DTSTAMP:20240128T021633Z
URL:https://martinluther.ca/de/events/weltgebetstag-2024-palaestina-gottes
 dienst-in-der-st-georgs-lutherische-kirche-410-college-st-um-11-00-uhr-gef
 olgt-von-gemeinschaft/
SUMMARY:Weltgebetstag 2024 Palästina - Gottesdienst in der St. Georg's Lut
 herische Kirche 410 College St um 11.00 Uhr gefolgt von Gemeinschaft
DESCRIPTION:Freitag\, 01. Maerz 2024 um 11.00 Uhr gefolgt von Gemeinschaft 
 –  St Georg’s Kirche 410 College St\, Toronto\, ON M5T 1S8 Phone: (41
 6) 921-2687\n\num 11.00 Uhr gefolgt von Gemeinschaft\n\n–Katharina Moell
 er\, Veranstalterin\n\nWeltgebetstag 2024 Palästina\n\nDie Gottesdienstor
 dnung für den Weltgebetstag 2024 Land: Palästina wurde vom Vorstand des 
 Deutschen Komitees veröffentlicht. Ihr findet sie hier: https://weltgebe
 tstag.de/aktuelles/news/die-neue-printversion-ist-da/\n\n\n\nBild Kathrin 
 Schwarze\n\n&nbsp\;
END:VEVENT
BEGIN:VTIMEZONE
TZID:America/Toronto
X-LIC-LOCATION:America/Toronto
BEGIN:STANDARD
DTSTART:20231105T010000
TZOFFSETFROM:-0400
TZOFFSETTO:-0500
TZNAME:EST
END:STANDARD
END:VTIMEZONE
END:VCALENDAR