BEGIN:VCALENDAR
VERSION:2.0
PRODID:-//wp-events-plugin.com//7.2.3.1//EN
TZID:America/Toronto
X-WR-TIMEZONE:America/Toronto
BEGIN:VEVENT
UID:4119@martinluther.ca
DTSTART;TZID=America/Toronto;VALUE=DATE:20240302
DTEND;TZID=America/Toronto;VALUE=DATE:20240303
DTSTAMP:20240202T003527Z
URL:https://martinluther.ca/de/events/world-day-of-prayer-2024-from-palest
 ine-12-noon-set-and-potluck-100-pm-english-ecumenical-service-will-be-at-m
 artin-luther-church-2379-lake-shore-blvd-west-etobicoke/
SUMMARY:World Day of Prayer 2024 from Palestine - 12 noon set and Potluck 1
 :00 pm English Ecumenical Service will be at Martin Luther Church\, 2379 L
 ake Shore Blvd West\, Etobicoke.
DESCRIPTION:[caption id="attachment_48007" align="alignright" width="213"] 
 "I Beg You… Bear With One Another in Love” Ephesians 4:1-3 Artwork by 
 Halima Aziz[/caption]\n\nSaturday  March 2\, 2024 - World Day of Prayer 2
 024 from Palestine\n\nAn English Ecumenical Service will be at Martin Luth
 er Church\, 2379 Lake Shore Blvd West\, Etobicoke.\n\n12 pm Set up &amp\; 
 Potluck\n1:00 pm Ecumenical Service written by the World Day of Prayer Com
 mittee of Palestine\, prepared and adapted for use in Canada by the Women
 ’s Inter-Church Council of Canada.\n\nDear World Day of Prayer enthusias
 ts and dear all who would like to try this on for size. You are invited to
  become a part of the team.\n\nA special invitation for our neighbouring c
 hurches and community outreach teams e.g. Bowls and Blessings Outdoor Food
  Ministry\, Dinner Church\, Drum Circle\, to attend and join the team\n\nD
 o you love to play an instrument\, enjoy singing\, reading\, cooking?  Ar
 e you tech savvy or is your talent is decorating? Contact Iris at iris.g.s
 chweiger@gmail.com.\n\nImagine over 1.5 million Christians speaking 90 dif
 ferent languages in 150 countries coming together in spirit\; uniting to p
 ray for relevant issues affecting women and children. This was the 2023 re
 ality for this tremendous movement that has been active for nearly 100 yea
 rs.\n\nThe World Day of Prayer is traditionally celebrated on the first Fr
 iday of March\, although local communities can choose another date. Due to
  construction at MLC we are choosing to plan this event on the weekend.\n\
 nFind the time\, find the team. I promise\, you will go home enriched.\n- 
 Iris Schweiger\n\n\n\nSubscribe to our Email List at office@martinluther.c
 a\n\nSubscribe to our YouTube channel at: https://www.youtube.com/martinlu
 therchurchtoronto\n\nYou can find further news at Church News-Blog: https:
 //martinluther.ca/news-of-the-church/\n\nMartin Luther Evangelical Luthera
 n Church\n2379 Lake Shore Blvd West\, Toronto\, Ontario\, Canada M8V 1B7\n
 Tel.: (416) 251-8293 office@martinluther.ca\n\nPastor Annika Klappert\n\nF
 ollow the Martin Luther Church Toronto on social media:\nFacebook: https:/
 /www.facebook.com/martinlutherchurchtoronto\nInstagram: https://www.instag
 ram.com/lutheransbythelake\n\nMartin Luther Church Toronto is a member of 
 the Evangelical Lutheran Church in Canada (ELCIC) and partners with the Ev
 angelische Kirche in Deutschland (EKD).
END:VEVENT
BEGIN:VTIMEZONE
TZID:America/Toronto
X-LIC-LOCATION:America/Toronto
BEGIN:STANDARD
DTSTART:20231105T010000
TZOFFSETFROM:-0400
TZOFFSETTO:-0500
TZNAME:EST
END:STANDARD
END:VTIMEZONE
END:VCALENDAR