BEGIN:VCALENDAR
VERSION:2.0
PRODID:-//wp-events-plugin.com//7.2.3.1//EN
TZID:America/Toronto
X-WR-TIMEZONE:America/Toronto
BEGIN:VEVENT
UID:4143@martinluther.ca
DTSTART;TZID=America/Toronto;VALUE=DATE:20240329
DTEND;TZID=America/Toronto;VALUE=DATE:20240330
DTSTAMP:20240328T174747Z
URL:https://martinluther.ca/events/1030-am-english-service-at-mimico-bapti
 st-church-80-hillside-ave-a-gathering-together-with-our-ecumenical-partner
 -churches-on-the-lakeshore/
SUMMARY:Good Friday - 10:30 am English Service at Mimico Baptist Church\, 8
 0 Hillside Ave\, a gathering together with our ecumenical partner churches
  on the Lakeshore
DESCRIPTION:Good Friday March 29\, 2024 - 10:30 am English Service at Mimic
 o Baptist Church\, 80 Hillside Ave\, a gathering together with our ecumeni
 cal partner churches on the Lakeshore (https://mimicobaptist.ca/)\n\nMar 2
 9\, 2024 Good Friday\n10:30 am English Service at Mimico Baptist Church\, 
 80 Hillside Ave\, to gather with our ecumenical partner churches on the La
 keshore: Christ Church St. James Anglican Church\, Mimico Presbyterian Chu
 rch\, Wesley Mimico United Church and the host Mimico Baptist Church\n\nTh
 is service will bring together a number of Good Friday traditions. Our jou
 rney will follow the text of the passion narrative from the Gospel Accordi
 ng to John and will take us to seven stations. As each station comes to us
 \, we will have a reading of the text\, a visual image\, a reflection and 
 an extinguishing of a candle followed by a prayer. You are invited to ente
 r into the experience of Christ and to receive the significance. - Pastor 
 Jim Sanderson\, Mimico Baptist Church\, https://mimicobaptist.ca/good-frid
 ay-2024/\n\nYou can download the Order of Service.\n\n--------------------
 -----------------\n\nAn 11:00 am German Service with Holy Communion and ou
 r church choir will be at Martin Luther Church Toronto\n\nMartin Luther Ev
 angelical Lutheran Church\n2379 Lake Shore Blvd West\, Toronto\, Ontario\,
  Canada M8V 1B7\nTel.: (416) 251-8293 office@martinluther.ca\nPastor Annik
 a Klappert\n\nFollow us on social media:\nFacebook: https://www.facebook.c
 om/martinlutherchurchtoronto\nInstagram: https://www.instagram.com/luthera
 nsbythelake\n\nMartin Luther Church Toronto is a member of the Evangelical
  Lutheran Church in Canada (ELCIC) and partners with the Evangelische Kirc
 he in Deutschland (EKD).
END:VEVENT
BEGIN:VTIMEZONE
TZID:America/Toronto
X-LIC-LOCATION:America/Toronto
BEGIN:DAYLIGHT
DTSTART:20240310T030000
TZOFFSETFROM:-0500
TZOFFSETTO:-0400
TZNAME:EDT
END:DAYLIGHT
END:VTIMEZONE
END:VCALENDAR