BEGIN:VCALENDAR
VERSION:2.0
PRODID:-//wp-events-plugin.com//7.2.3.1//EN
TZID:America/Toronto
X-WR-TIMEZONE:America/Toronto
BEGIN:VEVENT
UID:4559@martinluther.ca
DTSTART;TZID=America/Toronto;VALUE=DATE:20260211
DTEND;TZID=America/Toronto;VALUE=DATE:20260212
DTSTAMP:20260123T212728Z
URL:https://martinluther.ca/events/1100-am-seniors-group-carnival-traditio
 ns-an-invitation-to-have-fun/
SUMMARY:11:00 am Senior's Group Carnival traditions. An invitation to have 
 fun
DESCRIPTION:Wednesday\, February 11\, 2026 | 11:00 am Senior's Group Carniv
 al traditions. An invitation to have fun\nWe invite the Seniors of the con
 gregation and their guests to meet in the week before Lent starts to learn
  about Carnival- what it has to do with the church\, where in the world it
  is celebrated\, and the different traditions associated with it.  We wil
 l have cake (including Berliner Pfannkuchen)\, sandwiches\, and drinks. Th
 e program will be in German and English.\n\nSenior's Group Wed Feb 11\, 20
 26 at 11:00 am\n\nPlease contact the church office to request a ride\, off
 er a ride\, or help with hospitality.\n\nFor more information:\nBerliner (
 doughnut)\nhttps://en.wikipedia.org/wiki/Berliner_(doughnut)\nCarnival\nht
 tps://en.wikipedia.org/wiki/Carnival\n\nWe are looking for photographers a
 nd a recap writer for this event.\n\nFor more information\, see Senior's G
 roup webpage.\n\n&nbsp\;
END:VEVENT
BEGIN:VTIMEZONE
TZID:America/Toronto
X-LIC-LOCATION:America/Toronto
BEGIN:STANDARD
DTSTART:20251102T010000
TZOFFSETFROM:-0400
TZOFFSETTO:-0500
TZNAME:EST
END:STANDARD
END:VTIMEZONE
END:VCALENDAR