BEGIN:VCALENDAR
VERSION:2.0
PRODID:-//wp-events-plugin.com//7.2.3.1//EN
TZID:America/Toronto
X-WR-TIMEZONE:America/Toronto
BEGIN:VEVENT
UID:4272@martinluther.ca
DTSTART;TZID=America/Toronto:20250921T110000
DTEND;TZID=America/Toronto:20250921T130000
DTSTAMP:20250919T222810Z
URL:https://martinluther.ca/events/15th-sunday-after-pentecost-1100-am-bil
 ingual-german-english-service-with-farewell-to-vicar-alice-rothgordt-back-
 to-germany-pastor-annika-klappert-and-vicar-alice-rothgordt-followed-by-re
 ceptio/
SUMMARY:15TH SUNDAY after PENTECOST - 11:00 am Bilingual German-English Ser
 vice with Farewell To Vicar Alice Rothgordt\, back to Germany) (Pastor Ann
 ika Klappert and Vicar Alice Rothgordt) Followed by reception. + 2:00 pm R
 etirement Service for Pastor Katharina Moeller at St. George's Lutheran Ch
 urch\, 410 College St. A reception will follow after the service
DESCRIPTION:September 21\, 2025 - 15TH SUNDAY after PENTECOST - 11:00 am Bi
 lingual German-English Service with Farewell To Vicar Alice Rothgordt\, ba
 ck to Germany) (Presided by Pastor Annika Klappert and Vicar Alice Rothgor
 dt - Email: vicarrothgordt@martinluther.ca) \n\nFollowed by a reception in
  the foyer for Vicar Alice.   \n\n\n*Please sign a farewell card for Vic
 ar Alice at church or email your message to the office at office@martinlut
 her.ca. You are welcome to bring dessert for the reception!\n\nCan you hel
 p with coffee and cake  hospitality? You can bring food (dessert\, fruit t
 ray\, etc)\, supplies (coffee\, tea\, milk\, cream) and/or help with set u
 p\, serving and clean up: washing dishes and wiping tables. Stacking and p
 utting away chairs. Sign up to help with hospitality.\n\n+ Retirement of P
 astor Katharina Moeller\, St. George's Lutheran Church\, 410 College St. (
 &amp\; Bathurst)\, Toronto.\nPastor Katharina Moeller (Phone: (905) 277-26
 31 Email: k.moeller@sympatico.ca) invites all of us to join her on her Fes
 tive Retirement Service and celebration on September 21\, 2025 Sunday 2:00
  pm. Guest Preacher: Pastor Ralph Carl Wushke. Reception to follow. Click 
 here for the Invitation.\n\n&nbsp\;\n\n\n\nFrom home: Listen to our 15 min
 ute German radio devotions which air every Sunday at 9:30 am live on CHLO 
 Radio station AM 530 (a multilingual radio station broadcasting from Bramp
 ton\, Ontario). Later archived as a podcast recording on our Radio Devotio
 ns webpage.\n\nSubscribe to our weekly Email updates by contacting office@
 martinluther.ca\nYou can find further news at Church News-Blog: https://ma
 rtinluther.ca/news-of-the-church/\n\nMartin Luther Evangelical Lutheran Ch
 urch\n2379 Lake Shore Blvd West\, Toronto\, Ontario\, Canada M8V 1B7\nTel.
 : (416) 251-8293 office@martinluther.ca\n\nFollow us on social media:\nFac
 ebook: https://www.facebook.com/martinlutherchurchtoronto\nInstagram: http
 s://www.instagram.com/lutheransbythelake\n\nMartin Luther Church Toronto i
 s a member of the Evangelical Lutheran Church in Canada (ELCIC) and partne
 rs with the Evangelische Kirche in Deutschland (EKD).
END:VEVENT
BEGIN:VTIMEZONE
TZID:America/Toronto
X-LIC-LOCATION:America/Toronto
BEGIN:DAYLIGHT
DTSTART:20250309T030000
TZOFFSETFROM:-0500
TZOFFSETTO:-0400
TZNAME:EDT
END:DAYLIGHT
END:VTIMEZONE
END:VCALENDAR