BEGIN:VCALENDAR
VERSION:2.0
PRODID:-//wp-events-plugin.com//7.2.3.1//EN
TZID:America/Toronto
X-WR-TIMEZONE:America/Toronto
BEGIN:VEVENT
UID:4280@martinluther.ca
DTSTART;TZID=America/Toronto;VALUE=DATE:20251019
DTEND;TZID=America/Toronto;VALUE=DATE:20251020
DTSTAMP:20250821T151122Z
URL:https://martinluther.ca/events/19th-sunday-after-pentecost-1100-am-bil
 ingual-german-english-service-pastor-annika-klappert/
SUMMARY:19TH SUNDAY after PENTECOST -11:00 am Bilingual German - English Se
 rvice (Pastor Annika Klappert)
DESCRIPTION:October 19\, 2025 -19TH SUNDAY after PENTECOST -11:00 am Biling
 ual German - English Service (Pastor Annika Klappert)\n\nAll are welcome t
 o gather in the foyer after the service.\n\nCan you help with coffee and c
 ake  hospitality? You can bring food (dessert\, fruit tray\, etc)\, suppli
 es (coffee\, tea\, milk\, cream) and/or help with set up\, serving and cle
 an up: washing dishes and wiping tables. Stacking and putting away chairs.
  Sign up to help with hospitality.\n\nFrom home: Listen to our 15 minute G
 erman radio devotions which air every Sunday at 9:30 am live on CHLO Radio
  station AM 530 (a multilingual radio station broadcasting from Brampton\,
  Ontario). Later archived as a podcast recording on our Radio Devotions we
 bpage.\n\nSubscribe to our weekly Email updates by contacting office@marti
 nluther.ca\nYou can find further news at Church News-Blog: https://martinl
 uther.ca/news-of-the-church/\n\nMartin Luther Evangelical Lutheran Church\
 n2379 Lake Shore Blvd West\, Toronto\, Ontario\, Canada M8V 1B7\nTel.: (41
 6) 251-8293 office@martinluther.ca\n\nFollow us on social media:\nFacebook
 : https://www.facebook.com/martinlutherchurchtoronto\nInstagram: https://w
 ww.instagram.com/lutheransbythelake\n\nMartin Luther Church Toronto is a m
 ember of the Evangelical Lutheran Church in Canada (ELCIC) and partners wi
 th the Evangelische Kirche in Deutschland (EKD).
END:VEVENT
BEGIN:VTIMEZONE
TZID:America/Toronto
X-LIC-LOCATION:America/Toronto
BEGIN:DAYLIGHT
DTSTART:20250309T030000
TZOFFSETFROM:-0500
TZOFFSETTO:-0400
TZNAME:EDT
END:DAYLIGHT
END:VTIMEZONE
END:VCALENDAR