BEGIN:VCALENDAR
VERSION:2.0
PRODID:-//wp-events-plugin.com//7.2.3.1//EN
TZID:America/Toronto
X-WR-TIMEZONE:America/Toronto
BEGIN:VEVENT
UID:4126@martinluther.ca
DTSTART;TZID=America/Toronto;VALUE=DATE:20240312
DTEND;TZID=America/Toronto;VALUE=DATE:20240313
DTSTAMP:20240211T222214Z
URL:https://martinluther.ca/events/600-pm-choir-practice-in-preparation-fo
 r-good-friday-and-easter-3/
SUMMARY:6:00 pm Choir Practice\, in preparation for Good Friday and Easter
DESCRIPTION:6:00 pm Choir Practice\, in preparation for Good Friday and Eas
 ter\n\nContact: Linda Marcinkus\, Organist and Choirdirector via office@ma
 rtinluther.ca\n\n&nbsp\;
END:VEVENT
BEGIN:VTIMEZONE
TZID:America/Toronto
X-LIC-LOCATION:America/Toronto
BEGIN:DAYLIGHT
DTSTART:20240310T030000
TZOFFSETFROM:-0500
TZOFFSETTO:-0400
TZNAME:EDT
END:DAYLIGHT
END:VTIMEZONE
END:VCALENDAR