BEGIN:VCALENDAR
VERSION:2.0
PRODID:-//wp-events-plugin.com//7.2.3.1//EN
TZID:America/Toronto
X-WR-TIMEZONE:America/Toronto
BEGIN:VEVENT
UID:4122@martinluther.ca
DTSTART;TZID=America/Toronto;VALUE=DATE:20240227
DTEND;TZID=America/Toronto;VALUE=DATE:20240228
DTSTAMP:20240211T221101Z
URL:https://martinluther.ca/events/600-pm-choir-practice-in-preparation-fo
 r-good-friday-and-easter/
SUMMARY:6:00 pm Choir Practice\, in preparation for Good Friday and Easter
DESCRIPTION:6:00 pm Choir Practice\, in preparation for Good Friday and Eas
 ter\n\nContact: Linda Marcinkus\, Organist and Choir Director via office@m
 artinluther.ca
END:VEVENT
BEGIN:VTIMEZONE
TZID:America/Toronto
X-LIC-LOCATION:America/Toronto
BEGIN:STANDARD
DTSTART:20231105T010000
TZOFFSETFROM:-0400
TZOFFSETTO:-0500
TZNAME:EST
END:STANDARD
END:VTIMEZONE
END:VCALENDAR