BEGIN:VCALENDAR
VERSION:2.0
PRODID:-//wp-events-plugin.com//7.2.3.1//EN
TZID:America/Toronto
X-WR-TIMEZONE:America/Toronto
BEGIN:VEVENT
UID:4109@martinluther.ca
DTSTART;TZID=America/Toronto:20240312T190000
DTEND;TZID=America/Toronto:20240312T210000
DTSTAMP:20240312T022701Z
URL:https://martinluther.ca/events/700-pm-bible-study-on-zoom-in-german-an
 d-english-tuesday-once-a-month/
SUMMARY:7:00 pm Bible Study on Zoom in German and English
DESCRIPTION:7:00 pm Bible Study on Zoom in German and English\n\nUpdate: On
  March 12th\, we will meet again for Bible Study with our friends from Mar
 tin Luther Church Ottawa. We are also excited to welcome participants from
  the German Lutheran Church in Washington\, D.C. for the first time! The t
 ext is from John 12:20\, which we will reflect upon using "the seven steps
  Bible sharing" method\, practicing together in two groups of English and 
 German speakers.\n\nNo previous knowledge of the Bible is needed! To regis
 ter and receive the Zoom link\, please email office@martinluther.ca\n\n---
 --------------------------------------------------------------------------
 --------------------------------------------------------------------------
 --------------------\n\nBible Study in English and German:\n\nWe will focu
 s on the Gospel for the week in preparation for the Sunday sermon. Join Pa
 stor Judith Kierschke (Ottawa) and Pastor Annika Klappert (Toronto) in lea
 rning about the historical and theological background of a bible text and 
 find new ways to apply them to our lived experience! Both leaders speak En
 glish and German so we have the ability to spread into subgroups according
  to language preferences.\n\nUpcoming dates: Tuesday March 12th\, Tuesday 
 April 16th\, and Tuesday May 14th\, 2024 at 7:00 pm on Zoom. \n\n--------
 --------------------------------------------------------------------------
 --------------------------------------------------------------------------
 ---------------\n\nSubscribe to our Email List at office@martinluther.ca\n
 \nYou can find further news at Church News-Blog: https://martinluther.ca/n
 ews-of-the-church/\n\nMartin Luther Evangelical Lutheran Church\n2379 Lake
  Shore Blvd West\, Toronto\, Ontario\, Canada M8V 1B7\nTel.: (416) 251-829
 3 office@martinluther.ca\nPastor Annika Klappert\n\nFollow us on social me
 dia:\nFacebook: https://www.facebook.com/martinlutherchurchtoronto\nInstag
 ram: https://www.instagram.com/lutheransbythelake\n\nMartin Luther Church 
 Toronto is a member of the Evangelical Lutheran Church in Canada (ELCIC) a
 nd partners with the Evangelische Kirche in Deutschland (EKD).\n\n&nbsp\;
END:VEVENT
BEGIN:VTIMEZONE
TZID:America/Toronto
X-LIC-LOCATION:America/Toronto
BEGIN:DAYLIGHT
DTSTART:20240310T030000
TZOFFSETFROM:-0500
TZOFFSETTO:-0400
TZNAME:EDT
END:DAYLIGHT
END:VTIMEZONE
END:VCALENDAR